BEGIN:VCALENDAR
VERSION:2.0
PRODID:-//Scary Little Girls - ECPv6.15.17.1//NONSGML v1.0//EN
CALSCALE:GREGORIAN
METHOD:PUBLISH
X-WR-CALNAME:Scary Little Girls
X-ORIGINAL-URL:https://scarylittlegirls.co.uk
X-WR-CALDESC:Events for Scary Little Girls
REFRESH-INTERVAL;VALUE=DURATION:PT1H
X-Robots-Tag:noindex
X-PUBLISHED-TTL:PT1H
BEGIN:VTIMEZONE
TZID:Europe/London
BEGIN:DAYLIGHT
TZOFFSETFROM:+0000
TZOFFSETTO:+0100
TZNAME:BST
DTSTART:20200329T010000
END:DAYLIGHT
BEGIN:STANDARD
TZOFFSETFROM:+0100
TZOFFSETTO:+0000
TZNAME:GMT
DTSTART:20201025T010000
END:STANDARD
BEGIN:DAYLIGHT
TZOFFSETFROM:+0000
TZOFFSETTO:+0100
TZNAME:BST
DTSTART:20210328T010000
END:DAYLIGHT
BEGIN:STANDARD
TZOFFSETFROM:+0100
TZOFFSETTO:+0000
TZNAME:GMT
DTSTART:20211031T010000
END:STANDARD
BEGIN:DAYLIGHT
TZOFFSETFROM:+0000
TZOFFSETTO:+0100
TZNAME:BST
DTSTART:20220327T010000
END:DAYLIGHT
BEGIN:STANDARD
TZOFFSETFROM:+0100
TZOFFSETTO:+0000
TZNAME:GMT
DTSTART:20221030T010000
END:STANDARD
END:VTIMEZONE
BEGIN:VEVENT
DTSTART;TZID=Europe/London:20210307T180000
DTEND;TZID=Europe/London:20210307T190000
DTSTAMP:20260420T002740
CREATED:20210222T143536Z
LAST-MODIFIED:20241007T124644Z
UID:4861-1615140000-1615143600@scarylittlegirls.co.uk
SUMMARY:Carry Greenham Home: online screening and Q&A
DESCRIPTION:Join the fabulous POW! Thanet festival for a special free online screening of this legendary documentary about the women of the Greenham Common peace camp. \n\nThe screening will be followed by a live performance of Greenham campfire songs from Rebecca Mordan of Scary Little Girls\, and a Q&A with the film’s director Baroness Beeban Kidron\, who famously said: \n“The women of Greenham Common taught a generation how to protest.” \nBook now – it’s free! \nFind out more on the POW! Thanet website.
URL:https://scarylittlegirls.co.uk/event/carry-greenham-home-online-screening-and-qa/
ATTACH;FMTTYPE=image/jpeg:https://scarylittlegirls.co.uk/wp-content/uploads/2019/01/Greenham-Common-82-rescaled.jpg
END:VEVENT
BEGIN:VEVENT
DTSTART;TZID=Europe/London:20210310T193000
DTEND;TZID=Europe/London:20210310T200000
DTSTAMP:20260420T002740
CREATED:20201223T104338Z
LAST-MODIFIED:20241007T124644Z
UID:4806-1615404600-1615406400@scarylittlegirls.co.uk
SUMMARY:Salon de la Vie - Season Three - Mother's Day Special
DESCRIPTION:Mark your diaries! The third episode of Salon de la Vie Season Three on the 10th March 2021 is a Mother’s Day Special! \n✮ March 10th 2021 \n✮ 7.30pm \n✮  YouTube  \n\nJoin your host Rebecca as she explores our cultures – and her own – relationship with mothers in this Mother’s Day special \nThrough readings from authors Angela Carter and Agatha Christie and songs by Kirsty MacColl and Sinead O’Connor\, Rebecca will explore the often complicated relationship we have with those who nurture us. \nWith warmth\, wit and a drop of mother’s ruin\, she’ll be looking at the power of our relationships with our mother’s to create and destroy\, at mother’s as activists and heroes\, and celebrating the impact of these vital guardians with feet-of clay. \nWe’re looking forward to chatting to you on the messages board – and as ever prepare yourself for the musical accompaniments which Rebecca has decided are most fitting for this Salons! \nDid you know? \n–  In her famous video of Nothing Compares 2U\, Sinead O’Connor achieved the iconic tearful shot of her singing one take as she thought of the difficult relationship between herself and her mother who had died just before filming started. \n– Kirsty MacColl’s mother Jean Newlove travelled the world trying to achieve justice for her daughter’s tragic and untimely death – killed by a speedboat in Mexican waters in December 2000.  She never gave up her struggle and wrote My Kirsty to further promote her daughter’s legacy\, just a few years before her own death. \n– Rebecca’s own mum was a Greenham Woman who took her daughter to the camp and to Embrace the Base!  This year is the 40th anniversary of the start of The Greenham Common Women’s Peace Camp! \nGet into the mood with our specially curated playlist for Mother’s Day\, evoking the unique connection between mother and child; the loving but also the complex and visceral; the pain of losing or never finding that bond; mothers who are absent or smothering; the freedom to choose whether to become a mother; the sacrifices made for ungrateful children; custody battles and IVF treatment; the blood\, the milk\, the intensity – the sacred power to create life: \n \nAbout Salon de la Vie \nHosted by Scary Little Girls’ Rebecca Mordan\, Salon de la Vie is a series of fortnightly 15 – 20 minute extravaganzas of songs\, storytelling\, merriment and conversation\, focusing each time on an awe-inspiring\, remarkable and brave human from the world of film\, music\, literature and history\, drawing parallels with the achievements of activists today\, to celebrate how people positively embody the change they want to see in the world\, for themselves and for others. And we’re super proud that each salon has a custom illustration provided by the wonderful Jacky Fleming. \nCome along every other Wednesday evening to join in with our singing\, celebration and joy! \nWe’d like to thank our amazing funders Arts Council England for supporting this project \nAbout Scary Little Girls \nScary Little Girls is a vibrant\, hard-working production hub whose commitment and passion for theatrical and artistic storytelling is borne out by the variety of scary little work we have created and the support we have from our scary little artists and audiences.
URL:https://scarylittlegirls.co.uk/event/salon-de-la-vie-season-three-mothers-day-special/
ATTACH;FMTTYPE=image/jpeg:https://scarylittlegirls.co.uk/wp-content/uploads/2020/12/Mothers-Day.jpg
END:VEVENT
BEGIN:VEVENT
DTSTART;TZID=Europe/London:20210324T193000
DTEND;TZID=Europe/London:20210324T200000
DTSTAMP:20260420T002740
CREATED:20201223T104421Z
LAST-MODIFIED:20241007T124644Z
UID:4809-1616614200-1616616000@scarylittlegirls.co.uk
SUMMARY:Salon de la Vie - Season Three - Marilyn Monroe
DESCRIPTION:Mark your diaries! The fourth episode of Salon de la Vie Season Three on the 24th March 2021 is all about the enigmatic Marilyn Monroe! \n✮ March 24th 2021 \n✮ 7.30pm \n✮  YouTube  \nJoin your host Rebecca as she explores our culture’s – and her own – enduring obsession with Marilyn Monroe. \nThrough readings from authors Truman Capote and Sarah Churchwell and songs by Portishead and Lucy Dacus\, Rebecca will explore the complicated relationship we have with Marilyn Monroe as fans\, voyeurs and critics. \nWith warmth\, wit and a drop of fizzy\, Rebecca will chat about some of Monroe’s less well known films\, made as she started to have creative control of her career\, and see if these can shine a light on the artist and person too often hidden by the sex symbol and persona. \nWe’re looking forward to chatting to you on the messages board – and to welcoming Special Guest TJ Holmes\, who regulars will know from his marvellous musical arrangements\, to give us a reading as our first mancub to perform in the Salon de la Vie! \nDid you know? \n–  Truman Capote and Marilyn Monroe were good friends and the character of Holly Golightly in Breakfast at Tiffany’s was inspired by her \n– During the filming of Niagara in 1953\, she was still under contract as a stock actor\, thus\, she received less salary than her make-up man \n– In her last interview\, Monroe told Richard Meryman\, ‘It’s nice to be in people’s fantasies\, but you also like to be accepted for your own sake.’ \nGet into the mood by listening to our specially curated Marilyn Monroe playlist\, showcasing her incredible singing talents alongside snippets from her most famous films and a wide range of songs inspired by her life\, art\, cultural impact and legacy: \n \nAbout Salon de la Vie \nHosted by Scary Little Girls’ Rebecca Mordan\, Salon de la Vie is a series of fortnightly 15 – 20 minute extravaganzas of songs\, storytelling\, merriment and conversation\, focusing each time on an awe-inspiring\, remarkable and brave human from the world of film\, music\, literature and history\, drawing parallels with the achievements of activists today\, to celebrate how people positively embody the change they want to see in the world\, for themselves and for others. And we’re super proud that each salon has a custom illustration provided by the wonderful Jacky Fleming. \nCome along every other Wednesday evening to join in with our singing\, celebration and joy! \nWe’d like to thank our amazing funders Arts Council England for supporting this project \nAbout Scary Little Girls \nScary Little Girls is a vibrant\, hard-working production hub whose commitment and passion for theatrical and artistic storytelling is borne out by the variety of scary little work we have created and the support we have from our scary little artists and audiences.
URL:https://scarylittlegirls.co.uk/event/salon-de-la-vie-season-three-marilyn-monroe/
ATTACH;FMTTYPE=image/jpeg:https://scarylittlegirls.co.uk/wp-content/uploads/2020/12/MM.jpg
END:VEVENT
END:VCALENDAR