BEGIN:VCALENDAR
VERSION:2.0
PRODID:-//Scary Little Girls - ECPv6.15.17.1//NONSGML v1.0//EN
CALSCALE:GREGORIAN
METHOD:PUBLISH
X-ORIGINAL-URL:https://scarylittlegirls.co.uk
X-WR-CALDESC:Events for Scary Little Girls
REFRESH-INTERVAL;VALUE=DURATION:PT1H
X-Robots-Tag:noindex
X-PUBLISHED-TTL:PT1H
BEGIN:VTIMEZONE
TZID:Europe/London
BEGIN:DAYLIGHT
TZOFFSETFROM:+0000
TZOFFSETTO:+0100
TZNAME:BST
DTSTART:20190331T010000
END:DAYLIGHT
BEGIN:STANDARD
TZOFFSETFROM:+0100
TZOFFSETTO:+0000
TZNAME:GMT
DTSTART:20191027T010000
END:STANDARD
BEGIN:DAYLIGHT
TZOFFSETFROM:+0000
TZOFFSETTO:+0100
TZNAME:BST
DTSTART:20200329T010000
END:DAYLIGHT
BEGIN:STANDARD
TZOFFSETFROM:+0100
TZOFFSETTO:+0000
TZNAME:GMT
DTSTART:20201025T010000
END:STANDARD
BEGIN:DAYLIGHT
TZOFFSETFROM:+0000
TZOFFSETTO:+0100
TZNAME:BST
DTSTART:20210328T010000
END:DAYLIGHT
BEGIN:STANDARD
TZOFFSETFROM:+0100
TZOFFSETTO:+0000
TZNAME:GMT
DTSTART:20211031T010000
END:STANDARD
END:VTIMEZONE
BEGIN:VEVENT
DTSTART;TZID=Europe/London:20201212T190000
DTEND;TZID=Europe/London:20201212T210000
DTSTAMP:20260420T064328
CREATED:20201202T100533Z
LAST-MODIFIED:20241007T124645Z
UID:4735-1607799600-1607806800@scarylittlegirls.co.uk
SUMMARY:Gala for Virginia Woolf
DESCRIPTION:An evening of personal reflections and responses to the work of Virginia Woolf from a diverse range of writers\, musicians\, artists and fans\n\n\nOrganised by Aurora Metro to raise funds for a statue of Virginia Woolf:\n\n\nPour a glass of something cheery and join us for an entertaining evening.\n\n\n\n\n\n\n\n\nWith a mixture of live interviews\, readings and songs from a diverse range of fantastic writers\, artists and performers this event promises to be a lively celebration of all things Virginia Woolf. \nHelp Aurora Metro to reach their target of £50\,000 and make Virginia Woolf’s bronze statue a reality! This is the clay model in progress below and 45% of funds have been raised to date. \nBook now \nContributors to the evening include: \nMC: Linda Duberley\, broadcaster and journalist \nMusicians: Kyla Brox\, Sister Cookie\, Woolf and Music \nWriters: Kimberley Coates\, Sarah Gristwood\, Mark Haddon\, Emily Midorikawa and Emma Claire Sweeney\, Frances Spalding\, Anne Sebba \nComediennes: Deborah Frances White\, Elf Lyons and Clare Summerskill \nArtist: Louisa Albani \nTheatre: Katie Mitchell preparing her production of ‘Orlando’ in Paris. \nRebecca Mordan performs a reading and song. \nDyad Productions perform an extract from their adaptation of Woolf’s work A Room of One’s Own. \nMarvellous Machine’s production of Orlando directed by Lou Corben (extract). \nWe will also be offering all manner of other good things for attendees to purchase for the benefit of the project. \nTo donate directly to the statue project\, go here: virginmoneygiving.com/fund/VirginiaWoolfStatue
URL:https://scarylittlegirls.co.uk/event/gala-for-virginia-woolf/
ATTACH;FMTTYPE=image/jpeg:https://scarylittlegirls.co.uk/wp-content/uploads/2020/12/gala-1.jpg
END:VEVENT
BEGIN:VEVENT
DTSTART;TZID=Europe/London:20201216T193000
DTEND;TZID=Europe/London:20201216T210000
DTSTAMP:20260420T064328
CREATED:20201109T162804Z
LAST-MODIFIED:20241007T124645Z
UID:4658-1608147000-1608152400@scarylittlegirls.co.uk
SUMMARY:Scary Little Hi-Jinks at the Christmas special Salon de la Vie!
DESCRIPTION:We’ve made a list\, we’ve checked it twice – the line up for our Scary Little Christmas Hi-Jinks is complete! \nJoin us online at 7.30pm on the 16th December for a fun filled evening of festive\, feminist fun! \nHere are a few things we’ve got up our faux fur-lined sleeve \nA Festive (J)Uke Box (Artistic Director Rebecca Mordan and the ukealady) which will do its best to play your requests on the night. Song sheets will be supplied in the run up to the event so you can choose what you want and join in! \nA hilarious new look at carols with the Hyrrs Not Hymns! \nTech tricks that will allow you to feed directly into the fun while you watch inc live chat and an online message board so we can take your requests and as host I’ll be trialling for the first time a piece of costume that you can influence from your homes…! \nYour Sparkly Seasonal Selfies and yes\, there will be a prize if you can beat Becca in the glitter stakes! \nSo line up your treats\, warm that grog and hang up those stockings – we plan to fill them with a night of scary little high-jinks because we’ve all been bleddy great this weird\, bad year and it’s time to get naughty and nice! \nBook your  tickets here  (And if you’re wondering why we’re charging for this one\, read this) \n 
URL:https://scarylittlegirls.co.uk/event/have-yourself-some-scary-little-hijinks-at-the-christmas-special-salon-de-la-vie/
LOCATION:Scary Little Girls YouTube Channel
ATTACH;FMTTYPE=image/png:https://scarylittlegirls.co.uk/wp-content/uploads/2020/11/pipe-hat.png
END:VEVENT
BEGIN:VEVENT
DTSTART;TZID=Europe/London:20201228T193000
DTEND;TZID=Europe/London:20201228T210000
DTSTAMP:20260420T064328
CREATED:20200119T180301Z
LAST-MODIFIED:20241007T124645Z
UID:3833-1609183800-1609189200@scarylittlegirls.co.uk
SUMMARY:Salon du Chocolat - covid safe! (Truro)
DESCRIPTION:Join us at the new Covid-19 safe venue in Truro\, Gwaryjy\, run by Popp Theatre\, for a special festive edition of Salon du Chocolat! This exciting and illicit storytelling event celebrates the relationship between famed aphrodisiac cocoa and forbidden literature!  Expect mouth-watering chocolate treats served alongside secret\, banned and scandalous tales from authors such as Lord Byron\, John Donne\, Angela Carter and Mary Elizabeth Braddon. \nBook now \nSalon du Chocolat has enjoyed sold-out success at the Edinburgh Free Fringe\, Oxford Playhouse\, the Theatre Chipping Norton\, the Cornerstone in Didcot and beyond. \n“Such fantastic stories\, so fantastically told! I feel like a child again\, no film could compete. Definitely a convert”\n“Gripping! Brilliantly paced – could not have asked for more.”\n“Thank you for a lovely evening.”\n“Thank you\, the stories were so well read and chosen and the atmosphere was lovely.”\n“Delicious and delightful. More of the same please….” \nAudience comments from previous Salon du Chocolat events
URL:https://scarylittlegirls.co.uk/event/salon-du-chocolat-truro-2/
LOCATION:Gwaryjy (Pydar Pop Up Venue)\, 8 St Clements Street\, Truro\, Cornwall\, TR1 1DT
ATTACH;FMTTYPE=image/jpeg:https://scarylittlegirls.co.uk/wp-content/uploads/2019/01/scary133-e1607967684962.jpg
END:VEVENT
BEGIN:VEVENT
DTSTART;TZID=Europe/London:20201229T193000
DTEND;TZID=Europe/London:20201229T210000
DTSTAMP:20260420T064328
CREATED:20201214T174221Z
LAST-MODIFIED:20241007T124645Z
UID:4788-1609270200-1609275600@scarylittlegirls.co.uk
SUMMARY:Salon du Chocolat - covid safe! (Truro)
DESCRIPTION:Join us at the new Covid-19 safe venue in Truro\, Gwaryjy\, run by Popp Theatre\, for a special festive edition of Salon du Chocolat! This exciting and illicit storytelling event celebrates the relationship between famed aphrodisiac cocoa and forbidden literature!  Expect mouth-watering chocolate treats served alongside secret\, banned and scandalous tales from authors such as Lord Byron\, John Donne\, Angela Carter and Mary Elizabeth Braddon. \nBook now \nSalon du Chocolat has enjoyed sold-out success at the Edinburgh Free Fringe\, Oxford Playhouse\, the Theatre Chipping Norton\, the Cornerstone in Didcot and beyond. \n“Such fantastic stories\, so fantastically told! I feel like a child again\, no film could compete. Definitely a convert”\n“Gripping! Brilliantly paced – could not have asked for more.”\n“Thank you for a lovely evening.”\n“Thank you\, the stories were so well read and chosen and the atmosphere was lovely.”\n“Delicious and delightful. More of the same please….” \nAudience comments from previous Salon du Chocolat events
URL:https://scarylittlegirls.co.uk/event/salon-du-chocolat-covid-safe-truro/
LOCATION:Gwaryjy (Pydar Pop Up Venue)\, 8 St Clements Street\, Truro\, Cornwall\, TR1 1DT
ATTACH;FMTTYPE=image/jpeg:https://scarylittlegirls.co.uk/wp-content/uploads/2019/01/scary133-e1607967684962.jpg
END:VEVENT
END:VCALENDAR