BEGIN:VCALENDAR
VERSION:2.0
PRODID:-//Scary Little Girls - ECPv6.15.17.1//NONSGML v1.0//EN
CALSCALE:GREGORIAN
METHOD:PUBLISH
X-WR-CALNAME:Scary Little Girls
X-ORIGINAL-URL:https://scarylittlegirls.co.uk
X-WR-CALDESC:Events for Scary Little Girls
REFRESH-INTERVAL;VALUE=DURATION:PT1H
X-Robots-Tag:noindex
X-PUBLISHED-TTL:PT1H
BEGIN:VTIMEZONE
TZID:Europe/London
BEGIN:DAYLIGHT
TZOFFSETFROM:+0000
TZOFFSETTO:+0100
TZNAME:BST
DTSTART:20190331T010000
END:DAYLIGHT
BEGIN:STANDARD
TZOFFSETFROM:+0100
TZOFFSETTO:+0000
TZNAME:GMT
DTSTART:20191027T010000
END:STANDARD
BEGIN:DAYLIGHT
TZOFFSETFROM:+0000
TZOFFSETTO:+0100
TZNAME:BST
DTSTART:20200329T010000
END:DAYLIGHT
BEGIN:STANDARD
TZOFFSETFROM:+0100
TZOFFSETTO:+0000
TZNAME:GMT
DTSTART:20201025T010000
END:STANDARD
BEGIN:DAYLIGHT
TZOFFSETFROM:+0000
TZOFFSETTO:+0100
TZNAME:BST
DTSTART:20210328T010000
END:DAYLIGHT
BEGIN:STANDARD
TZOFFSETFROM:+0100
TZOFFSETTO:+0000
TZNAME:GMT
DTSTART:20211031T010000
END:STANDARD
END:VTIMEZONE
BEGIN:VEVENT
DTSTART;TZID=Europe/London:20201118T183000
DTEND;TZID=Europe/London:20201118T203000
DTSTAMP:20260420T081229
CREATED:20201109T155648Z
LAST-MODIFIED:20241007T124646Z
UID:4652-1605724200-1605731400@scarylittlegirls.co.uk
SUMMARY:Embrace the Base: Living Legacies of Greenham Women
DESCRIPTION:What was life like at the Greenham Common Peace Camp between 1981 and 2000?  \nTune in to this very special interactive performance event at the brilliant Being Human Festival of Humanities where we’ll be talking activism\, direct action\, and protest\, and sharing the oral histories of Greenham Women through songs\, games\, and virtual reality. \n\n\nThis is organised by The Royal Central School of Speech and Drama\, University of London \n\nTickets are FREE – read more and book yours here
URL:https://scarylittlegirls.co.uk/event/embrace-the-base-living-legacies-of-greenham-women/
LOCATION:Online
ATTACH;FMTTYPE=image/png:https://scarylittlegirls.co.uk/wp-content/uploads/2019/01/greenham-header.png
END:VEVENT
BEGIN:VEVENT
DTSTART;TZID=Europe/London:20201125T193000
DTEND;TZID=Europe/London:20201125T200000
DTSTAMP:20260420T081229
CREATED:20201109T110836Z
LAST-MODIFIED:20241007T124646Z
UID:4643-1606332600-1606334400@scarylittlegirls.co.uk
SUMMARY:Salon de la Vie and LAUNCH of Greenham Women Digital!
DESCRIPTION:Join us for an eggs to the wall feminist special on the International Day for the Elimination of Violence Against Women (IDEVAW) and help us launch our groundbreaking online exhibition\, Greenham Women Digital! \nHost Rebecca Mordan will be chatting about the new site that brings together first-hand accounts of life at the iconic Greenham Common Women’s Peace Camp with a 3D treasure hunt of original performances pieces by and about the Greenham Women. \nTo support this and to honour the IDEVAW\, we’ve chosen material for Rebecca to perform from some of our favourite Scaries such as writer Lorna Partington\, Greenham Woman Sue Say and folk legend Peggy Seeger. \nThis salon will go from the sublime to the ridiculous and we’d love to take you with us as we celebrate the invention\, fortitude and attitude of women in their fight against violence and patriarchy – for liberty\, sisters! \nBook your FREE tickets here \n 
URL:https://scarylittlegirls.co.uk/event/salon-de-la-vie-and-launch-of-greenham-women-digital/
LOCATION:Scary Little Girls YouTube Channel
ATTACH;FMTTYPE=image/jpeg:https://scarylittlegirls.co.uk/wp-content/uploads/2020/11/JFleming.jpg
END:VEVENT
END:VCALENDAR