BEGIN:VCALENDAR
VERSION:2.0
PRODID:-//Scary Little Girls - ECPv6.15.17.1//NONSGML v1.0//EN
CALSCALE:GREGORIAN
METHOD:PUBLISH
X-WR-CALNAME:Scary Little Girls
X-ORIGINAL-URL:https://scarylittlegirls.co.uk
X-WR-CALDESC:Events for Scary Little Girls
REFRESH-INTERVAL;VALUE=DURATION:PT1H
X-Robots-Tag:noindex
X-PUBLISHED-TTL:PT1H
BEGIN:VTIMEZONE
TZID:Europe/London
BEGIN:DAYLIGHT
TZOFFSETFROM:+0000
TZOFFSETTO:+0100
TZNAME:BST
DTSTART:20190331T010000
END:DAYLIGHT
BEGIN:STANDARD
TZOFFSETFROM:+0100
TZOFFSETTO:+0000
TZNAME:GMT
DTSTART:20191027T010000
END:STANDARD
BEGIN:DAYLIGHT
TZOFFSETFROM:+0000
TZOFFSETTO:+0100
TZNAME:BST
DTSTART:20200329T010000
END:DAYLIGHT
BEGIN:STANDARD
TZOFFSETFROM:+0100
TZOFFSETTO:+0000
TZNAME:GMT
DTSTART:20201025T010000
END:STANDARD
BEGIN:DAYLIGHT
TZOFFSETFROM:+0000
TZOFFSETTO:+0100
TZNAME:BST
DTSTART:20210328T010000
END:DAYLIGHT
BEGIN:STANDARD
TZOFFSETFROM:+0100
TZOFFSETTO:+0000
TZNAME:GMT
DTSTART:20211031T010000
END:STANDARD
END:VTIMEZONE
BEGIN:VEVENT
DTSTART;TZID=Europe/London:20200902T193000
DTEND;TZID=Europe/London:20200902T195000
DTSTAMP:20260420T123701
CREATED:20200701T102341Z
LAST-MODIFIED:20241007T124648Z
UID:4240-1599075000-1599076200@scarylittlegirls.co.uk
SUMMARY:Salon de la Vie - Season Two - Zora Neale Hurston
DESCRIPTION:For your diary – Salon de la Vie explores the life of Zore Neale Hurston on the 2nd September! Join us online at 19.30 \nWatch the Salon on YouTube Support us on Ko-Fi \n‘A Genius of the South’ \nSo said Alice Walker of one of Harlem’s most beloved and controversial sisters\, Zora Neale Hurston – and we can’t wait to celebrate her with you! This Salon will explore her life\, the music of the scene she was at the centre of and of course her wild and witty writing. We’ll see through her eyes\, and the performance of guest star Kudzanayi Chiwawa\, the life\, loves and folk-law of the people she grew up with and start to understand her impact on culture then and now. \nDid you know?  \nZora interviewed Cudjoe Kazzola Lewis\, of Africatown\, Alabama\, who was the last known survivor of the enslaved Africans carried aboard Clotilda\, an illegal slave ship that had entered the US in 1860\, and thus the last known person to have been transported in the Transatlantic slave trade. \nAuthor Alice Walker sought to identify Hurston’s unmarked grave in 1973. She installed a grave marker inscribed with “A Genius of the South.” \nZora collected black folklore from all over the Deep South\, including rhymes like \n‘Went down to the river\,\nHeard a mighty racket\,\nNothing but the bull frog\nPullin’ off his jacket!’ \nAbout Salon de la Vie \nHosted by Scary Little Girls’ Rebecca Mordan\, Salon de la Vie is a series of fortnightly 15 – 20 minute extravaganzas of songs\, storytelling\, merriment and conversation\, focusing each time on an awe-inspiring\, remarkable and brave human from the world of film\, music\, literature and history\, drawing parallels with the achievements of activists today\, to celebrate how people positively embody the change they want to see in the world\, for themselves and for others. And we’re super proud that each salon has a custom illustration provided by the wonderful Jacky Fleming. \nCome along every other Wednesday evening to join in with our singing\, celebration and joy! \nWe’d like to thank our amazing funders Arts Council England for supporting this project \nAbout Scary Little Girls \nScary Little Girls is a vibrant\, hard-working production hub whose commitment and passion for theatrical and artistic storytelling is borne out by the variety of scary little work we have created and the support we have from our scary little artists and audiences.
URL:https://scarylittlegirls.co.uk/event/salon-de-la-vie-season-two-zora-neale-hurston/
ATTACH;FMTTYPE=image/jpeg:https://scarylittlegirls.co.uk/wp-content/uploads/2020/07/Zora-Neale-Hurston.jpeg
END:VEVENT
BEGIN:VEVENT
DTSTART;TZID=Europe/London:20200916T193000
DTEND;TZID=Europe/London:20200916T195000
DTSTAMP:20260420T123701
CREATED:20200701T102414Z
LAST-MODIFIED:20241007T124647Z
UID:4239-1600284600-1600285800@scarylittlegirls.co.uk
SUMMARY:Salon de la Vie - Season Two - Lena Horne
DESCRIPTION:For your diary – Salon de la Vie explores the life of Lena Horne on the 16th September! Join us online at 19.30 \nWatch the Salon on YouTube Support us on Ko-Fi \nThe Lady and her Music \nRoll up\, roll up\, for a whistle-stop tour of the times\, career and cabaret of Lena Horne! \nIn her 70 years in show business\, Lena was a singer\, dancer\, actress\, and civil rights activist as at home with Paul Robeson as Ava Gardner. \nWe’ll look at the Hollywood culture she found herself in\, how she dealt with the threat of the blacklist and her later life comeback to huge and devoted fans as a star of Broadway. \nDid you know? \nAfter quitting the USO in 1945 because of the organisation’s policy of segregating audiences\, Horne financed tours of military camps herself to play to integrated crowds of servicemen \nLena was only 16 when she started her career in the Cotton Club as a dancer before taking herself off to Hollywood \nIn her autobiography Lena writes ‘You have to be taught your second class; you’re not born that way.’ \n  \nAbout Salon de la Vie \nHosted by Scary Little Girls’ Rebecca Mordan\, Salon de la Vie is a series of fortnightly 15 – 20 minute extravaganzas of songs\, storytelling\, merriment and conversation\, focusing each time on an awe-inspiring\, remarkable and brave human from the world of film\, music\, literature and history\, drawing parallels with the achievements of activists today\, to celebrate how people positively embody the change they want to see in the world\, for themselves and for others. And we’re super proud that each salon has a custom illustration provided by the wonderful Jacky Fleming. \nCome along every other Wednesday evening to join in with our singing\, celebration and joy! \nWe’d like to thank our amazing funders Arts Council England for supporting this project \nAbout Scary Little Girls \nScary Little Girls is a vibrant\, hard-working production hub whose commitment and passion for theatrical and artistic storytelling is borne out by the variety of scary little work we have created and the support we have from our scary little artists and audiences.
URL:https://scarylittlegirls.co.uk/event/salon-de-la-vie-season-two-lena-horne/
ATTACH;FMTTYPE=image/jpeg:https://scarylittlegirls.co.uk/wp-content/uploads/2020/07/LenaHorne2.jpg
END:VEVENT
BEGIN:VEVENT
DTSTART;TZID=Europe/London:20200919T193000
DTEND;TZID=Europe/London:20200919T223000
DTSTAMP:20260420T123701
CREATED:20200902T140553Z
LAST-MODIFIED:20241007T124647Z
UID:4526-1600543800-1600554600@scarylittlegirls.co.uk
SUMMARY:The Greenham Women Everywhere Night Around The Campfire
DESCRIPTION:Join us for a window into the world of Greenham\, from women who were there\, and female artists who have been inspired by the camp! \nThis exclusive evening will celebrate and commemorate the Greenham Women’s Peace Camp with contributions from women who were there! \n\nYou’ll also get a sneak preview of the look and feel of our amazing Arts Council funded project bringing an interactive exhibition about the Camp to life online\, ahead of the launch later in the autumn. \n\nAn evening of two halves\, we’ll treat you to ‘in conversation’ chats – including one between Nina Milns and Sue Say who will be discussing police\, courts\, prison and race at Greenham – performances of ‘Take The Toys From The Boys’ and parts of Carry Greenham Home\, plus memories of the camp\, extracts from Stephanie Davies’ memoir\, ‘Other Girls Like Me‘\,  and a preview of Chisato Minamimura ‘Scored in Silence‘ solo digital artwork work that unpacks the untold tales of deaf hibakusha\, survivors of the A-Bombs that fell in Hiroshima and Nagasaki. Add music from Claire Ingleheart and Sharon Andrew and you’ll see why we are excited! \nIn true Greenham spirit\, we’ll end with a singalong – will you join us? We do hope so! \nGet your £5 tickets over on Eventbrite – see you online on the 19th!
URL:https://scarylittlegirls.co.uk/event/the-greenham-women-everywhere-night-around-the-campfire/
ATTACH;FMTTYPE=image/jpeg:https://scarylittlegirls.co.uk/wp-content/uploads/2020/08/greenham-women-everywhere.jpg
END:VEVENT
BEGIN:VEVENT
DTSTART;VALUE=DATE:20200923
DTEND;VALUE=DATE:20200928
DTSTAMP:20260420T123701
CREATED:20200717T161559Z
LAST-MODIFIED:20241007T124647Z
UID:4335-1600819200-1601251199@scarylittlegirls.co.uk
SUMMARY:In the Footsteps of the Mitfords
DESCRIPTION:***NEW DATES ADDED DUE TO FABULOUS DEMAND! BOOK NOW FOR 23-27 SEPTEMBER!*** \nThe Mitford sisters were writers\, travellers and political archivists with dramatically differing views. Following their previous sell-out successes\, In The Footsteps Of The Mitfords returns in partnership with The Theatre Chipping Norton\, bringing the experiences\, opinions and relationships of the celebrated sisters to life through live performances of their letters\, fiction\, and memoirs.  The performances take place in the stunning setting of the gardens of their childhood home\, Asthall Manor\, near Burford in Oxfordshire. \nWe have made changes to the performance to conform to current social distancing measures\, including smaller groups\, spaced performance times and locations that accommodate social distance between audience members and performers. \nBooking is now open
URL:https://scarylittlegirls.co.uk/event/in-the-footsteps-of-the-mitfords/
LOCATION:Asthall Manor\, Asthall\, Burford\, Oxfordshire\, OX18 4HW
ATTACH;FMTTYPE=image/jpeg:https://scarylittlegirls.co.uk/wp-content/uploads/2020/07/mitfords-slg-lowres-008-cJennyAstonPhotography.jpg
END:VEVENT
BEGIN:VEVENT
DTSTART;TZID=Europe/London:20200930T193000
DTEND;TZID=Europe/London:20200930T195000
DTSTAMP:20260420T123701
CREATED:20200701T103425Z
LAST-MODIFIED:20241007T124647Z
UID:4237-1601494200-1601495400@scarylittlegirls.co.uk
SUMMARY:Salon de la Vie - Season Two - Maya Angelou
DESCRIPTION:For your diary – Salon de la Vie explores the life of Maya Angelou on the 30th September! Join us online at 19.30 \nWatch the Salon on YouTube Support us on Ko-Fi \nPhenomenal Woman \nWhat better way to end the season than on Maya Angelou – poet\, performer\, activist and wordwitch! With special guest Kudzanayi Chiwawa we look at Maya’s childhood\, her revolutionary writing and her influence on women everywhere. \nWe can’t wait to celebrate this multifaceted powerhouse of talent with you\, sharing readings of her poems and autobiography and praising her like we should! \nDid you know? \nIn 2011 Maya spoke out in opposition to a paraphrase of a quotation by King that appeared on a memorial\, saying\, “The quote makes Dr. Martin Luther King look like an arrogant twit” \nMaya totally redefined the concept of the autobiography\, with her 7 volumes about her life starting with “I Know Why the Caged Bird Sings” \nFollow this link for one of the most seemingly unlike collaborations of all time; Maya Angelou\, Jessica Mitford and Bernard Cribbins! \n  \nAbout Salon de la Vie \nHosted by Scary Little Girls’ Rebecca Mordan\, Salon de la Vie is a series of fortnightly 15 – 20 minute extravaganzas of songs\, storytelling\, merriment and conversation\, focusing each time on an awe-inspiring\, remarkable and brave human from the world of film\, music\, literature and history\, drawing parallels with the achievements of activists today\, to celebrate how people positively embody the change they want to see in the world\, for themselves and for others. And we’re super proud that each salon has a custom illustration provided by the wonderful Jacky Fleming. \nCome along every other Wednesday evening to join in with our singing\, celebration and joy! \nWe’d like to thank our amazing funders Arts Council England for supporting this project \nAbout Scary Little Girls \nScary Little Girls is a vibrant\, hard-working production hub whose commitment and passion for theatrical and artistic storytelling is borne out by the variety of scary little work we have created and the support we have from our scary little artists and audiences.
URL:https://scarylittlegirls.co.uk/event/salon-de-la-vie-season-two-maya-angelou/
ATTACH;FMTTYPE=image/jpeg:https://scarylittlegirls.co.uk/wp-content/uploads/2020/07/Maya.jpg
END:VEVENT
END:VCALENDAR