BEGIN:VCALENDAR
VERSION:2.0
PRODID:-//Scary Little Girls - ECPv6.15.17.1//NONSGML v1.0//EN
CALSCALE:GREGORIAN
METHOD:PUBLISH
X-ORIGINAL-URL:https://scarylittlegirls.co.uk
X-WR-CALDESC:Events for Scary Little Girls
REFRESH-INTERVAL;VALUE=DURATION:PT1H
X-Robots-Tag:noindex
X-PUBLISHED-TTL:PT1H
BEGIN:VTIMEZONE
TZID:Europe/London
BEGIN:DAYLIGHT
TZOFFSETFROM:+0000
TZOFFSETTO:+0100
TZNAME:BST
DTSTART:20180325T010000
END:DAYLIGHT
BEGIN:STANDARD
TZOFFSETFROM:+0100
TZOFFSETTO:+0000
TZNAME:GMT
DTSTART:20181028T010000
END:STANDARD
BEGIN:DAYLIGHT
TZOFFSETFROM:+0000
TZOFFSETTO:+0100
TZNAME:BST
DTSTART:20190331T010000
END:DAYLIGHT
BEGIN:STANDARD
TZOFFSETFROM:+0100
TZOFFSETTO:+0000
TZNAME:GMT
DTSTART:20191027T010000
END:STANDARD
BEGIN:DAYLIGHT
TZOFFSETFROM:+0000
TZOFFSETTO:+0100
TZNAME:BST
DTSTART:20200329T010000
END:DAYLIGHT
BEGIN:STANDARD
TZOFFSETFROM:+0100
TZOFFSETTO:+0000
TZNAME:GMT
DTSTART:20201025T010000
END:STANDARD
END:VTIMEZONE
BEGIN:VEVENT
DTSTART;TZID=Europe/London:20191206T193000
DTEND;TZID=Europe/London:20191206T210000
DTSTAMP:20260421T155427
CREATED:20190904T142608Z
LAST-MODIFIED:20241007T124652Z
UID:3748-1575660600-1575666000@scarylittlegirls.co.uk
SUMMARY:Greenham Talk (Winchester)
DESCRIPTION:Greenham Women Everywhere: a talk by Rebecca Mordan \nBook now \nBased on fresh\, original testimonies given by over 100 Greenham Common Women\, this talk offers an intimate portrait of the adventures\, personalities and dilemmas of the Greenham Women\, exploring how Greenham’s legacy has influenced current cultural\, and political movements including Repeal The 8th\, Extinction Rebellion\, the Stansted 15 and the MeToo movement.\n\n\nRebecca Mordan\, Artistic Director of Scary Little Girls Association and co-ordinator of this unique Heritage Lottery funded project\, has led an interview process involving approx 100 Women of Greenham Common peace camp. In this talk she explains the work and shares anecdotes from these extraordinary campaigners\, finishing the evening with a Q & A session when Rebecca will be joined by local Greenham Women who have contributed to the Greenham Women Everywhere project.\n\n \nWe need your support: visit our Greenham GoFundMe!
URL:https://scarylittlegirls.co.uk/event/greenham-talk-winchester/
LOCATION:Winchester Discovery Centre\, Jewry Street\, Winchester\, SO23 8SB
ATTACH;FMTTYPE=image/jpeg:https://scarylittlegirls.co.uk/wp-content/uploads/2019/06/greenham-go-fund-me.jpeg
END:VEVENT
BEGIN:VEVENT
DTSTART;VALUE=DATE:20191207
DTEND;VALUE=DATE:20191208
DTSTAMP:20260421T155427
CREATED:20191011T153416Z
LAST-MODIFIED:20241007T124652Z
UID:3814-1575676800-1575763199@scarylittlegirls.co.uk
SUMMARY:Greenham Exhibition (Cambridge)
DESCRIPTION:Between August and December 2019\, Greenham Women Everywhere will be taking a pop-up exhibition on tour around the UK. \nThe exhibition will showcase some original photographs created by our team\, and also archival material\, both visual and written\, which we have collated during the project. We’ll be playing you soundscapes created by artists we have worked with which give a cross-section of the oral testimonies we have taken\, as well as using some of the wonderful Greenham music. \nThere will be a video installation which explores what political concerns and campaigns the Greenham Women are taking on today\, and there will even be a chance to meet some of the Greenham Women themselves – many will be hosting the exhibitions with us. \nAll set in a Greenham-inspired tent\, this exhibition really allows you to get an intimate look at the sights and sounds of the camp\, gives voice to these radical women and asks you what change you want to see in the world. \nDo keep an eye on the exhibition schedule for our panel talks – we’ll be running several. These are wonderful opportunities to hear from a range of Greenham Women and ask your own questions about life on camp\, as well as talk directly to the project managers about the project itself. \nOur team has been led in the exhibition design by Rachael Miles\, an artist and Senior Lecturer at The University of The West of England. \n \nWe need your support: visit our Greenham GoFundMe!
URL:https://scarylittlegirls.co.uk/event/greenham-exhibition-cambridge/
LOCATION:Cambridge University – TBC
ATTACH;FMTTYPE=image/jpeg:https://scarylittlegirls.co.uk/wp-content/uploads/2019/06/greenham-go-fund-me.jpeg
END:VEVENT
BEGIN:VEVENT
DTSTART;TZID=Europe/London:20191210T183000
DTEND;TZID=Europe/London:20191210T200000
DTSTAMP:20260421T155427
CREATED:20190913T171027Z
LAST-MODIFIED:20241007T124651Z
UID:3766-1576002600-1576008000@scarylittlegirls.co.uk
SUMMARY:Greenham Talk (Truro)
DESCRIPTION:Greenham Women Everywhere: a talk by Rebecca Mordan \nBook now \nBased on fresh\, original testimonies given by over 100 Greenham Common Women\, this talk offers an intimate portrait of the adventures\, personalities and dilemmas of the Greenham Women\, exploring how Greenham’s legacy has influenced current cultural\, and political movements including Repeal The 8th\, Extinction Rebellion\, the Stansted 15 and the MeToo movement.\n\n\nRebecca Mordan\, Artistic Director of Scary Little Girls Association and co-ordinator of this unique Heritage Lottery funded project\, has led an interview process involving approx 100 Women of Greenham Common peace camp. In this talk she explains the work and shares anecdotes from these extraordinary campaigners\, finishing the evening with a Q & A session when Rebecca will be joined by local Greenham Women who have contributed to the Greenham Women Everywhere project.\n\n \nWe need your support: visit our Greenham GoFundMe!
URL:https://scarylittlegirls.co.uk/event/greenham-talk-truro/
LOCATION:Truro College\, Kenwyn Lecture Theatre\, College Road\, Truro\, TR1 3XX
ATTACH;FMTTYPE=image/jpeg:https://scarylittlegirls.co.uk/wp-content/uploads/2019/06/greenham-go-fund-me.jpeg
END:VEVENT
END:VCALENDAR