BEGIN:VCALENDAR
VERSION:2.0
PRODID:-//Scary Little Girls - ECPv6.15.17.1//NONSGML v1.0//EN
CALSCALE:GREGORIAN
METHOD:PUBLISH
X-ORIGINAL-URL:https://scarylittlegirls.co.uk
X-WR-CALDESC:Events for Scary Little Girls
REFRESH-INTERVAL;VALUE=DURATION:PT1H
X-Robots-Tag:noindex
X-PUBLISHED-TTL:PT1H
BEGIN:VTIMEZONE
TZID:Europe/London
BEGIN:DAYLIGHT
TZOFFSETFROM:+0000
TZOFFSETTO:+0100
TZNAME:BST
DTSTART:20180325T010000
END:DAYLIGHT
BEGIN:STANDARD
TZOFFSETFROM:+0100
TZOFFSETTO:+0000
TZNAME:GMT
DTSTART:20181028T010000
END:STANDARD
BEGIN:DAYLIGHT
TZOFFSETFROM:+0000
TZOFFSETTO:+0100
TZNAME:BST
DTSTART:20190331T010000
END:DAYLIGHT
BEGIN:STANDARD
TZOFFSETFROM:+0100
TZOFFSETTO:+0000
TZNAME:GMT
DTSTART:20191027T010000
END:STANDARD
BEGIN:DAYLIGHT
TZOFFSETFROM:+0000
TZOFFSETTO:+0100
TZNAME:BST
DTSTART:20200329T010000
END:DAYLIGHT
BEGIN:STANDARD
TZOFFSETFROM:+0100
TZOFFSETTO:+0000
TZNAME:GMT
DTSTART:20201025T010000
END:STANDARD
END:VTIMEZONE
BEGIN:VEVENT
DTSTART;TZID=Europe/London:20191101T193000
DTEND;TZID=Europe/London:20191101T210000
DTSTAMP:20260421T131246
CREATED:20190921T134222Z
LAST-MODIFIED:20241007T124652Z
UID:3790-1572636600-1572642000@scarylittlegirls.co.uk
SUMMARY:Talk: Who are Scary Little Girls? (Penzance)
DESCRIPTION:Everything you wanted to know about Scary Little Girls\, but were too afraid to ask!\nFor the first time\, SLG has been invited to present a talk about its own history – we’re very honoured and excited about this and can’t wait to entertain the wonderful Hypatia Trust\, Penzance on our favourite topic… \nBook now \nHere’s what Hypatia has to say about the event… \nScary Little Girls is a feminist production hub with a passion for stories that are little known\, historically or culturally excluded\, or told from one perspective only. \nRebecca Mordan is a hugely talented performer with a wealth of humour\, song and stories. and here she delves into the company’s past and current projects: ‘Greenham Women Everywhere’\, ‘The Mitford Sister talks’\, ‘Salon du Chocolat’\, ‘Salon du Cinema’\, ‘The Full Bronte’ and pub quiz cabaret ‘It’s Your Round\,’ and discusses their relevance to women and their popularity with diverse audiences. \nA Cornish and London based company\, SLG employs around 100 artists annually\, reaches live audiences of 25\,000\, collaborating with venues from Penzance to Edinburgh\, actively creating jobs for women\, with skills sharing for the benefit of the artistic and wider community.
URL:https://scarylittlegirls.co.uk/event/talk-who-are-scary-little-girls-penzance/
LOCATION:The Hypatia Trust\, The Regent\, 54 Chapel Street\, Penzance\, TR18 4AE
ATTACH;FMTTYPE=image/jpeg:https://scarylittlegirls.co.uk/wp-content/uploads/2019/01/rebecca-mordan.jpg
END:VEVENT
BEGIN:VEVENT
DTSTART;TZID=Europe/London:20191102T193000
DTEND;TZID=Europe/London:20191102T210000
DTSTAMP:20260421T131246
CREATED:20190904T141435Z
LAST-MODIFIED:20241007T124652Z
UID:3745-1572723000-1572728400@scarylittlegirls.co.uk
SUMMARY:Salon du Chocolat (St Agnes)
DESCRIPTION:Book through the library \nJoin us at the St Agnes Library for an exciting and illicit storytelling event celebrating the relationship between famed aphrodisiac cocoa and forbidden literature!  Expect mouthwatering chocolate treats served alongside secret\, banned and scandalous tales from authors such as Lord Byron\, John Donne\, Angela Carter and Mary Elizabeth Braddon. \nSalon du Chocolat has enjoyed sold-out success at the Edinburgh Free Fringe\, Oxford Playhouse\, the Theatre Chipping Norton\, the Cornerstone in Didcot and beyond. \n“Such fantastic stories\, so fantastically told! I feel like a child again\, no film could compete. Definitely a convert”\n“Gripping! Brilliantly paced – could not have asked for more.”\n“Thank you for a lovely evening.”\n“Thank you\, the stories were so well read and chosen and the atmosphere was lovely.”\n“Delicious and delightful. More of the same please….” \nAudience comments from previous Salon du Chocolat events
URL:https://scarylittlegirls.co.uk/event/salon-du-chocolat-st-agnes/
LOCATION:St Agnes Library\, 2 Trelawney Road\, St Agnes\, TR5 0TP\, United Kingdom
ATTACH;FMTTYPE=image/jpeg:https://scarylittlegirls.co.uk/wp-content/uploads/2018/08/slg-salon-du-chocolat.jpg
END:VEVENT
BEGIN:VEVENT
DTSTART;VALUE=DATE:20191111
DTEND;VALUE=DATE:20191114
DTSTAMP:20260421T131246
CREATED:20191011T153301Z
LAST-MODIFIED:20241007T124652Z
UID:3811-1573430400-1573689599@scarylittlegirls.co.uk
SUMMARY:Greenham Exhibition (Goldsmiths\, London)
DESCRIPTION:Between August and December 2019\, Greenham Women Everywhere will be taking a pop-up exhibition on tour around the UK. \nThe exhibition will showcase some original photographs created by our team\, and also archival material\, both visual and written\, which we have collated during the project. We’ll be playing you soundscapes created by artists we have worked with which give a cross-section of the oral testimonies we have taken\, as well as using some of the wonderful Greenham music. \nThere will be a video installation which explores what political concerns and campaigns the Greenham Women are taking on today\, and there will even be a chance to meet some of the Greenham Women themselves – many will be hosting the exhibitions with us. \nAll set in a Greenham-inspired tent\, this exhibition really allows you to get an intimate look at the sights and sounds of the camp\, gives voice to these radical women and asks you what change you want to see in the world. \nDo keep an eye on the exhibition schedule for our panel talks – we’ll be running several. These are wonderful opportunities to hear from a range of Greenham Women and ask your own questions about life on camp\, as well as talk directly to the project managers about the project itself. \nOur team has been led in the exhibition design by Rachael Miles\, an artist and Senior Lecturer at The University of The West of England. \n \nWe need your support: visit our Greenham GoFundMe!
URL:https://scarylittlegirls.co.uk/event/greenham-exhibition-goldsmiths-london/
LOCATION:Goldsmiths University – Whitehead Building Lobby\, 8 Lewisham Way\, London\, SE14 6NW
ATTACH;FMTTYPE=image/jpeg:https://scarylittlegirls.co.uk/wp-content/uploads/2019/06/greenham-go-fund-me.jpeg
END:VEVENT
END:VCALENDAR