BEGIN:VCALENDAR
VERSION:2.0
PRODID:-//Scary Little Girls - ECPv6.15.17.1//NONSGML v1.0//EN
CALSCALE:GREGORIAN
METHOD:PUBLISH
X-ORIGINAL-URL:https://scarylittlegirls.co.uk
X-WR-CALDESC:Events for Scary Little Girls
REFRESH-INTERVAL;VALUE=DURATION:PT1H
X-Robots-Tag:noindex
X-PUBLISHED-TTL:PT1H
BEGIN:VTIMEZONE
TZID:Europe/London
BEGIN:DAYLIGHT
TZOFFSETFROM:+0000
TZOFFSETTO:+0100
TZNAME:BST
DTSTART:20180325T010000
END:DAYLIGHT
BEGIN:STANDARD
TZOFFSETFROM:+0100
TZOFFSETTO:+0000
TZNAME:GMT
DTSTART:20181028T010000
END:STANDARD
BEGIN:DAYLIGHT
TZOFFSETFROM:+0000
TZOFFSETTO:+0100
TZNAME:BST
DTSTART:20190331T010000
END:DAYLIGHT
BEGIN:STANDARD
TZOFFSETFROM:+0100
TZOFFSETTO:+0000
TZNAME:GMT
DTSTART:20191027T010000
END:STANDARD
BEGIN:DAYLIGHT
TZOFFSETFROM:+0000
TZOFFSETTO:+0100
TZNAME:BST
DTSTART:20200329T010000
END:DAYLIGHT
BEGIN:STANDARD
TZOFFSETFROM:+0100
TZOFFSETTO:+0000
TZNAME:GMT
DTSTART:20201025T010000
END:STANDARD
END:VTIMEZONE
BEGIN:VEVENT
DTSTART;TZID=Europe/London:20190907T140000
DTEND;TZID=Europe/London:20190907T150000
DTSTAMP:20260421T184652
CREATED:20190815T205848Z
LAST-MODIFIED:20241007T124656Z
UID:3711-1567864800-1567868400@scarylittlegirls.co.uk
SUMMARY:Sea Cry Saga (Chapel Porth Beach)
DESCRIPTION:The crash of the wild sea; a roaring fire; the warmth of the cup in your hands. At the edge of the country where the land meets the waves\, old stories and old powers come to life. \nTickets now available! \nScary Little Girls\, Creation Theatre and Sue Hill present interlinking myths from Cornwall’s Viking history exploring the relationship between the wild environment\, Goddesses and elements. \nDon’t miss this unique storytelling experience\, full of music and mythology\, all on the sands of Chapel Porth: Saturday 7 and Sunday 8 September\, at 2pm and 6pm each day (lasting about 1 hour). \nExpect music by Claire Ingleheart\, stories by Mercedes Kemp\, T.J. Holmes and L.H.Trevail and food from the Chapel Porth Beach Cafe – tickets strictly limited so please buy quickly as we live to regale rather than disappoint you! \nBook here
URL:https://scarylittlegirls.co.uk/event/sea-cry-saga-chapel-porth-beach/
LOCATION:Chapel Porth Beach\, St Agnes\, Truro\, Cornwall\, TR5 0NS
ATTACH;FMTTYPE=image/jpeg:https://scarylittlegirls.co.uk/wp-content/uploads/2019/08/Sea-Cry-Saga.jpg
END:VEVENT
BEGIN:VEVENT
DTSTART;TZID=Europe/London:20190907T180000
DTEND;TZID=Europe/London:20190907T190000
DTSTAMP:20260421T184652
CREATED:20190815T210027Z
LAST-MODIFIED:20241007T124655Z
UID:3718-1567879200-1567882800@scarylittlegirls.co.uk
SUMMARY:Sea Cry Saga (Chapel Porth Beach)
DESCRIPTION:The crash of the wild sea; a roaring fire; the warmth of the cup in your hands. At the edge of the country where the land meets the waves\, old stories and old powers come to life. \nTickets now available! \nScary Little Girls\, Creation Theatre and Sue Hill present interlinking myths from Cornwall’s Viking history exploring the relationship between the wild environment\, Goddesses and elements. \nDon’t miss this unique storytelling experience\, full of music and mythology\, all on the sands of Chapel Porth: Saturday 7 and Sunday 8 September\, at 2pm and 6pm each day (lasting about 1 hour). \nExpect music by Claire Ingleheart\, stories by Mercedes Kemp\, T.J. Holmes and L.H. Trevail and food from the Chapel Porth Beach Cafe – tickets strictly limited so please buy quickly as we live to regale rather than disappoint you! \nBook here
URL:https://scarylittlegirls.co.uk/event/sea-cry-saga-chapel-porth-beach-2/
LOCATION:Chapel Porth Beach\, St Agnes\, Truro\, Cornwall\, TR5 0NS
ATTACH;FMTTYPE=image/jpeg:https://scarylittlegirls.co.uk/wp-content/uploads/2019/08/Sea-Cry-Saga.jpg
END:VEVENT
BEGIN:VEVENT
DTSTART;TZID=Europe/London:20190908T140000
DTEND;TZID=Europe/London:20190908T150000
DTSTAMP:20260421T184652
CREATED:20190815T210202Z
LAST-MODIFIED:20241007T124655Z
UID:3720-1567951200-1567954800@scarylittlegirls.co.uk
SUMMARY:Sea Cry Saga (Chapel Porth Beach)
DESCRIPTION:The crash of the wild sea; a roaring fire; the warmth of the cup in your hands. At the edge of the country where the land meets the waves\, old stories and old powers come to life. \nTickets now available! \nScary Little Girls\, Creation Theatre and Sue Hill present interlinking myths from Cornwall’s Viking history exploring the relationship between the wild environment\, Goddesses and elements. \nDon’t miss this unique storytelling experience\, full of music and mythology\, all on the sands of Chapel Porth: Saturday 7 and Sunday 8 September\, at 2pm and 6pm each day (lasting about 1 hour). \nExpect music by Claire Ingleheart\, stories by Mercedes Kemp\, T.J. Holmes and L.H. Trevail and food from the Chapel Porth Beach Cafe – tickets strictly limited so please buy quickly as we live to regale rather than disappoint you! \nBook here
URL:https://scarylittlegirls.co.uk/event/sea-cry-saga-chapel-porth-beach-3/
LOCATION:Chapel Porth Beach\, St Agnes\, Truro\, Cornwall\, TR5 0NS
ATTACH;FMTTYPE=image/jpeg:https://scarylittlegirls.co.uk/wp-content/uploads/2019/08/Sea-Cry-Saga.jpg
END:VEVENT
BEGIN:VEVENT
DTSTART;TZID=Europe/London:20190908T180000
DTEND;TZID=Europe/London:20190908T190000
DTSTAMP:20260421T184652
CREATED:20190815T210440Z
LAST-MODIFIED:20241007T124655Z
UID:3724-1567965600-1567969200@scarylittlegirls.co.uk
SUMMARY:Sea Cry Saga (Chapel Porth Beach)
DESCRIPTION:The crash of the wild sea; a roaring fire; the warmth of the cup in your hands. At the edge of the country where the land meets the waves\, old stories and old powers come to life. \nTickets now available! \nScary Little Girls\, Creation Theatre and Sue Hill present interlinking myths from Cornwall’s Viking history exploring the relationship between the wild environment\, Goddesses and elements. \nDon’t miss this unique storytelling experience\, full of music and mythology\, all on the sands of Chapel Porth: Saturday 7 and Sunday 8 September\, at 2pm and 6pm each day (lasting about 1 hour). \nExpect music by Claire Ingleheart\, stories by Mercedes Kemp\, T.J. Holmes and L.H. Trevail and food from the Chapel Porth Beach Cafe – tickets strictly limited so please buy quickly as we live to regale rather than disappoint you! \nBook here
URL:https://scarylittlegirls.co.uk/event/sea-cry-saga-chapel-porth-beach-4/
LOCATION:Chapel Porth Beach\, St Agnes\, Truro\, Cornwall\, TR5 0NS
ATTACH;FMTTYPE=image/jpeg:https://scarylittlegirls.co.uk/wp-content/uploads/2019/08/Sea-Cry-Saga.jpg
END:VEVENT
BEGIN:VEVENT
DTSTART;TZID=Europe/London:20190911T190000
DTEND;TZID=Europe/London:20190911T203000
DTSTAMP:20260421T184652
CREATED:20190409T174443Z
LAST-MODIFIED:20241007T124655Z
UID:3495-1568228400-1568233800@scarylittlegirls.co.uk
SUMMARY:The Full Bronte (Penzance)
DESCRIPTION:Book now! \nJoin hosts Maria (glamour puss\, academic\, thespian) and her assistant Brannie (dogsbody\, ensemble cast\, backstage crew) in their chaotic attempt to homage the Bronte family! Combining comedy\, storytelling\, music and games\, this shows of wuthering delights was hailed by Three Weeks as ‘the anarchic love child of French and Saunders and Hinge and Brackett’. \nA delight for literature aficionados and theatre fans alike – and of course every devoted Brontephile! \n‘Seamless performers and lovely singers’ \nThe Scotsman \n‘Sparkling wit and commanding stage presence’ \nThe List
URL:https://scarylittlegirls.co.uk/event/the-full-bronte-penzance/
LOCATION:Penlee Park Theatre\, Morrab Road\, Penzance\, Cornwall\, TR18 4HE
ATTACH;FMTTYPE=image/jpeg:https://scarylittlegirls.co.uk/wp-content/uploads/2019/01/full-bronte.jpg
END:VEVENT
BEGIN:VEVENT
DTSTART;TZID=Europe/London:20190912T193000
DTEND;TZID=Europe/London:20190912T210000
DTSTAMP:20260421T184653
CREATED:20190608T124714Z
LAST-MODIFIED:20241007T124655Z
UID:3604-1568316600-1568322000@scarylittlegirls.co.uk
SUMMARY:The Full Bronte (Truro)
DESCRIPTION:Book now! \nJoin hosts Maria (glamour puss\, academic\, thespian) and her assistant Brannie (dogsbody\, ensemble cast\, backstage crew) in their chaotic attempt to homage the Bronte family! Combining comedy\, storytelling\, music and games\, this shows of wuthering delights was hailed by Three Weeks as ‘the anarchic love child of French and Saunders and Hinge and Brackett’. \nA delight for literature aficionados and theatre fans alike – and of course every devoted Brontephile! \n‘Seamless performers and lovely singers’ \nThe Scotsman \n‘Sparkling wit and commanding stage presence’ \nThe List
URL:https://scarylittlegirls.co.uk/event/the-full-bronte-truro/
LOCATION:Old Bakery Studios\, Blewett's Wharf\, Malpas Road\, Truro\, Cornwall\, TR1 1QH\, United Kingdom
ATTACH;FMTTYPE=image/jpeg:https://scarylittlegirls.co.uk/wp-content/uploads/2019/01/full-bronte.jpg
END:VEVENT
BEGIN:VEVENT
DTSTART;TZID=Europe/London:20190913T190000
DTEND;TZID=Europe/London:20190913T210000
DTSTAMP:20260421T184653
CREATED:20190622T123728Z
LAST-MODIFIED:20241007T124655Z
UID:3617-1568401200-1568408400@scarylittlegirls.co.uk
SUMMARY:The Last Seance & other supernatural tales (Torquay)
DESCRIPTION:From the International Agatha Christie Festival website… \n‘From behind the curtains there still sounded the terrible high long-drawn scream – such a scream as Raoul had never heard. It died away with a horrible kind of gurgle. Then there came the thud of a body falling…’ \nAllow storytellers from award-wining theatre company Scary Little Girls to thrill and chill you in this celebration of Agatha’s darker side! Expect tales of the macabre\, the sinister\, the surreal in this special event in the twelfth century Spanish Barn at Torre Abbey for the night of Friday 13th…… \nTo coincide with the publication of a new collection which gathers together all of Christie’s spookiest and most macabre short stories\, Scary Little Girls invite you for a cosy\, intimate storytelling night to bring to life some of the most ghostly and chilling tales from Agatha Christie.  Acknowledged the world over as the undisputed Queen of Crime\, in fact she dabbled in her early writing career with mysteries of a more unearthly kind – stories featuring fantastic psychic visions\, spectres looming in the shadows\, encounters with deities\, eerie messages from the Other Side\, even a man who switches bodies with a cat… \nFor this one-off special event\, the first 50 tickets sold will each be able to collect an advance pre-release edition of The Last Séance & other supernatural tales due for release later in autumn 2019. \nBook Now
URL:https://scarylittlegirls.co.uk/event/last-seance-torquay/
LOCATION:Torre Abbey\, The King's Drive\, Torquay\, TQ2 5JE
ATTACH;FMTTYPE=image/jpeg:https://scarylittlegirls.co.uk/wp-content/uploads/2019/06/Last-seance-1024x1024.jpg
END:VEVENT
BEGIN:VEVENT
DTSTART;VALUE=DATE:20190914
DTEND;VALUE=DATE:20190915
DTSTAMP:20260421T184653
CREATED:20190622T124313Z
LAST-MODIFIED:20241007T124655Z
UID:3622-1568419200-1568505599@scarylittlegirls.co.uk
SUMMARY:The Announcement of a Murder (Torquay)
DESCRIPTION:From the International Agatha Christie Festival website… \nScary Little Girls invite you to join us on the trail of Agatha Christie and her beloved creations! In small groups\, you’ll find Christie’s favourite characters hidden in quintessential locations around the house and gardens of Torre Abbey and you must work with them to solve the murder in the village!  Experience places you thought you knew as never before\, going off the beaten track\, and seeing the familiar with new eyes. And along your route\, explore Christie’s creative and devious mind and help reveal the murderer!  \nPlease dress for all weathers and bring footwear you can explore in!  Walks start every 20 minutes from 10am (please book a slot) and take approximately 75 minutes. \nBook Now \nTicket includes admission to Torre Abbey Museum and the Unfinished Portrait exhibition.
URL:https://scarylittlegirls.co.uk/event/the-announcement-of-a-murder-torquay/
LOCATION:Torre Abbey\, The King's Drive\, Torquay\, TQ2 5JE
ATTACH;FMTTYPE=image/jpeg:https://scarylittlegirls.co.uk/wp-content/uploads/2019/06/announcement-murder-1.jpg
END:VEVENT
BEGIN:VEVENT
DTSTART;VALUE=DATE:20190914
DTEND;VALUE=DATE:20190916
DTSTAMP:20260421T184653
CREATED:20190706T183707Z
LAST-MODIFIED:20241007T124654Z
UID:3675-1568419200-1568591999@scarylittlegirls.co.uk
SUMMARY:Greenham Exhibition (Gloucester)
DESCRIPTION:Between August and December 2019\, Greenham Women Everywhere will be taking a pop-up exhibition on tour around the UK. \nThe exhibition will showcase some original photographs created by our team\, and also archival material\, both visual and written\, which we have collated during the project. We’ll be playing you soundscapes created by artists we have worked with which give a cross-section of the oral testimonies we have taken\, as well as using some of the wonderful Greenham music. \nThere will be a video installation which explores what political concerns and campaigns the Greenham Women are taking on today\, and there will even be a chance to meet some of the Greenham Women themselves – many will be hosting the exhibitions with us. \nAll set in a Greenham-inspired tent\, this exhibition really allows you to get an intimate look at the sights and sounds of the camp\, gives voice to these radical women and asks you what change you want to see in the world. \nDo keep an eye on the exhibition schedule for our panel talks – we’ll be running several. These are wonderful opportunities to hear from a range of Greenham Women and ask your own questions about life on camp\, as well as talk directly to the project managers about the project itself. \nOur team has been led in the exhibition design by Rachael Miles\, an artist and Senior Lecturer at The University of The West of England. \n \nWe need your support: visit our Greenham GoFundMe!
URL:https://scarylittlegirls.co.uk/event/greenham-exhibition-gloucester/
LOCATION:Gloucester History Festival
ATTACH;FMTTYPE=image/jpeg:https://scarylittlegirls.co.uk/wp-content/uploads/2019/06/greenham-go-fund-me.jpeg
END:VEVENT
BEGIN:VEVENT
DTSTART;TZID=Europe/London:20190920T200000
DTEND;TZID=Europe/London:20190920T213000
DTSTAMP:20260421T184653
CREATED:20190913T165642Z
LAST-MODIFIED:20241007T124654Z
UID:3757-1569009600-1569015000@scarylittlegirls.co.uk
SUMMARY:Salon du Chocolat (Oakhanger)
DESCRIPTION:Book now \nJoin us at the Oakhanger Village Hall for an exciting and illicit storytelling event celebrating the relationship between famed aphrodisiac cocoa and forbidden literature!  Expect mouthwatering chocolate treats served alongside secret\, banned and scandalous tales from authors such as Lord Byron\, John Donne\, Angela Carter and Mary Elizabeth Braddon. \nSalon du Chocolat has enjoyed sold-out success at the Edinburgh Free Fringe\, Oxford Playhouse\, the Theatre Chipping Norton\, the Cornerstone in Didcot and beyond. \n“Such fantastic stories\, so fantastically told! I feel like a child again\, no film could compete. Definitely a convert”\n“Gripping! Brilliantly paced – could not have asked for more.”\n“Thank you for a lovely evening.”\n“Thank you\, the stories were so well read and chosen and the atmosphere was lovely.”\n“Delicious and delightful. More of the same please….” \nAudience comments from previous Salon du Chocolat events
URL:https://scarylittlegirls.co.uk/event/salon-du-chocolat-oakhanger/
LOCATION:Oakhanger Village Hall\, Oakhanger\, Bordon\, GU35 9JU\, United Kingdom
ATTACH;FMTTYPE=image/jpeg:https://scarylittlegirls.co.uk/wp-content/uploads/2018/08/slg-salon-du-chocolat.jpg
END:VEVENT
BEGIN:VEVENT
DTSTART;VALUE=DATE:20190921
DTEND;VALUE=DATE:20190922
DTSTAMP:20260421T184653
CREATED:20190706T184005Z
LAST-MODIFIED:20241007T124654Z
UID:3678-1569024000-1569110399@scarylittlegirls.co.uk
SUMMARY:Greenham Exhibition (Wallingford)
DESCRIPTION:Between August and December 2019\, Greenham Women Everywhere will be taking a pop-up exhibition on tour around the UK. \nThe exhibition will showcase some original photographs created by our team\, and also archival material\, both visual and written\, which we have collated during the project. We’ll be playing you soundscapes created by artists we have worked with which give a cross-section of the oral testimonies we have taken\, as well as using some of the wonderful Greenham music. \nThere will be a video installation which explores what political concerns and campaigns the Greenham Women are taking on today\, and there will even be a chance to meet some of the Greenham Women themselves – many will be hosting the exhibitions with us. \nAll set in a Greenham-inspired tent\, this exhibition really allows you to get an intimate look at the sights and sounds of the camp\, gives voice to these radical women and asks you what change you want to see in the world. \nDo keep an eye on the exhibition schedule for our panel talks – we’ll be running several. These are wonderful opportunities to hear from a range of Greenham Women and ask your own questions about life on camp\, as well as talk directly to the project managers about the project itself. \nOur team has been led in the exhibition design by Rachael Miles\, an artist and Senior Lecturer at The University of The West of England. \n \nWe need your support: visit our Greenham GoFundMe!
URL:https://scarylittlegirls.co.uk/event/greenham-exhibition-wallingford/
LOCATION:CND Action for Peace weekend\, Braziers Park\, Ipsden\, Oxfordshire\, OX10 6AN
ATTACH;FMTTYPE=image/jpeg:https://scarylittlegirls.co.uk/wp-content/uploads/2019/06/greenham-go-fund-me.jpeg
END:VEVENT
END:VCALENDAR