BEGIN:VCALENDAR
VERSION:2.0
PRODID:-//Scary Little Girls - ECPv6.15.17.1//NONSGML v1.0//EN
CALSCALE:GREGORIAN
METHOD:PUBLISH
X-WR-CALNAME:Scary Little Girls
X-ORIGINAL-URL:https://scarylittlegirls.co.uk
X-WR-CALDESC:Events for Scary Little Girls
REFRESH-INTERVAL;VALUE=DURATION:PT1H
X-Robots-Tag:noindex
X-PUBLISHED-TTL:PT1H
BEGIN:VTIMEZONE
TZID:Europe/London
BEGIN:DAYLIGHT
TZOFFSETFROM:+0000
TZOFFSETTO:+0100
TZNAME:BST
DTSTART:20200329T010000
END:DAYLIGHT
BEGIN:STANDARD
TZOFFSETFROM:+0100
TZOFFSETTO:+0000
TZNAME:GMT
DTSTART:20201025T010000
END:STANDARD
BEGIN:DAYLIGHT
TZOFFSETFROM:+0000
TZOFFSETTO:+0100
TZNAME:BST
DTSTART:20210328T010000
END:DAYLIGHT
BEGIN:STANDARD
TZOFFSETFROM:+0100
TZOFFSETTO:+0000
TZNAME:GMT
DTSTART:20211031T010000
END:STANDARD
BEGIN:DAYLIGHT
TZOFFSETFROM:+0000
TZOFFSETTO:+0100
TZNAME:BST
DTSTART:20220327T010000
END:DAYLIGHT
BEGIN:STANDARD
TZOFFSETFROM:+0100
TZOFFSETTO:+0000
TZNAME:GMT
DTSTART:20221030T010000
END:STANDARD
END:VTIMEZONE
BEGIN:VEVENT
DTSTART;TZID=Europe/London:20210530T110000
DTEND;TZID=Europe/London:20210530T160000
DTSTAMP:20260419T225530
CREATED:20210423T140556Z
LAST-MODIFIED:20241007T124643Z
UID:5027-1622372400-1622390400@scarylittlegirls.co.uk
SUMMARY:Lyrical Revolutions workshop (St Austell)
DESCRIPTION:Calling all women and girls! Join us for a free day of workshops at St Austell Arts Centre\, where we’ll help you learn new skills\, build confidence\, feel empowered and try something new – whether it’s singing\, banner-making or the art of protest! \nFor more info and to book your place\, please email Vanessa (V for short) on hello@greenhamwomeneverywhere.co.uk. \nFind out more about our Lyrical Revolutions project here.
URL:https://scarylittlegirls.co.uk/event/lyrical-revolutions-workshop-st-austell-2/
LOCATION:St Austell Arts Centre\, 87 Truro Road\, St Austell\, Cornwall\, PL25 5HJ
ATTACH;FMTTYPE=image/jpeg:https://scarylittlegirls.co.uk/wp-content/uploads/2021/04/Choose-life-GWE.jpg
END:VEVENT
END:VCALENDAR