BEGIN:VCALENDAR
VERSION:2.0
PRODID:-//Scary Little Girls - ECPv6.15.17.1//NONSGML v1.0//EN
CALSCALE:GREGORIAN
METHOD:PUBLISH
X-ORIGINAL-URL:https://scarylittlegirls.co.uk
X-WR-CALDESC:Events for Scary Little Girls
REFRESH-INTERVAL;VALUE=DURATION:PT1H
X-Robots-Tag:noindex
X-PUBLISHED-TTL:PT1H
BEGIN:VTIMEZONE
TZID:Europe/London
BEGIN:DAYLIGHT
TZOFFSETFROM:+0000
TZOFFSETTO:+0100
TZNAME:BST
DTSTART:20200329T010000
END:DAYLIGHT
BEGIN:STANDARD
TZOFFSETFROM:+0100
TZOFFSETTO:+0000
TZNAME:GMT
DTSTART:20201025T010000
END:STANDARD
BEGIN:DAYLIGHT
TZOFFSETFROM:+0000
TZOFFSETTO:+0100
TZNAME:BST
DTSTART:20210328T010000
END:DAYLIGHT
BEGIN:STANDARD
TZOFFSETFROM:+0100
TZOFFSETTO:+0000
TZNAME:GMT
DTSTART:20211031T010000
END:STANDARD
BEGIN:DAYLIGHT
TZOFFSETFROM:+0000
TZOFFSETTO:+0100
TZNAME:BST
DTSTART:20220327T010000
END:DAYLIGHT
BEGIN:STANDARD
TZOFFSETFROM:+0100
TZOFFSETTO:+0000
TZNAME:GMT
DTSTART:20221030T010000
END:STANDARD
END:VTIMEZONE
BEGIN:VEVENT
DTSTART;VALUE=DATE:20210508
DTEND;VALUE=DATE:20210510
DTSTAMP:20260419T211953
CREATED:20210419T131736Z
LAST-MODIFIED:20241007T124644Z
UID:5000-1620432000-1620604799@scarylittlegirls.co.uk
SUMMARY:Greenham Common 40th Anniversary Celebration (POW! Thanet)
DESCRIPTION:An immersive\, historical\, theatrical experience\, hosted by Scary Little Girls as part of POW! Thanet 2021 Festival. \nIn September 1981\, 36 women walked from Cardiff to the RAF base at Greenham Common in protest against the American government holding nuclear cruise missiles on common land. This marked the beginning of a 19 year protest at Greenham Common. \nJoin us for this live in-person event in the gardens of the Powell-Cotton Museum in Birchington-on-Sea\, to celebrate the 40th anniversary of the Greenham Common Women’s Peace Camp. \nThis event allows you to experience aspects of the peace camp\, including campfire singing\, banner making and discussion. \nYou will choose a time slot as a group or individual\, and be led through the experience in socially distanced groups of 6 – please see the POW! Thanet website for more details on Covid-safe arrangements for this event. \nMore info and book tickets \nFind out more about how Scary Little Girls are celebrating the 40th anniversary of the start of the Greenham Common Women’s Peace Camp here.
URL:https://scarylittlegirls.co.uk/event/greenham-common-40th-anniversary-celebration-birchington/
LOCATION:Powell-Cotton Museum\, Quex Park\, Birchington\, Kent\, CT7 0BH
ATTACH;FMTTYPE=image/jpeg:https://scarylittlegirls.co.uk/wp-content/uploads/2021/04/GWE40-1.jpg
END:VEVENT
END:VCALENDAR