BEGIN:VCALENDAR
VERSION:2.0
PRODID:-//Scary Little Girls - ECPv6.15.17.1//NONSGML v1.0//EN
CALSCALE:GREGORIAN
METHOD:PUBLISH
X-WR-CALNAME:Scary Little Girls
X-ORIGINAL-URL:https://scarylittlegirls.co.uk
X-WR-CALDESC:Events for Scary Little Girls
REFRESH-INTERVAL;VALUE=DURATION:PT1H
X-Robots-Tag:noindex
X-PUBLISHED-TTL:PT1H
BEGIN:VTIMEZONE
TZID:Europe/London
BEGIN:DAYLIGHT
TZOFFSETFROM:+0000
TZOFFSETTO:+0100
TZNAME:BST
DTSTART:20200329T010000
END:DAYLIGHT
BEGIN:STANDARD
TZOFFSETFROM:+0100
TZOFFSETTO:+0000
TZNAME:GMT
DTSTART:20201025T010000
END:STANDARD
BEGIN:DAYLIGHT
TZOFFSETFROM:+0000
TZOFFSETTO:+0100
TZNAME:BST
DTSTART:20210328T010000
END:DAYLIGHT
BEGIN:STANDARD
TZOFFSETFROM:+0100
TZOFFSETTO:+0000
TZNAME:GMT
DTSTART:20211031T010000
END:STANDARD
BEGIN:DAYLIGHT
TZOFFSETFROM:+0000
TZOFFSETTO:+0100
TZNAME:BST
DTSTART:20220327T010000
END:DAYLIGHT
BEGIN:STANDARD
TZOFFSETFROM:+0100
TZOFFSETTO:+0000
TZNAME:GMT
DTSTART:20221030T010000
END:STANDARD
END:VTIMEZONE
BEGIN:VEVENT
DTSTART;TZID=Europe/London:20210307T180000
DTEND;TZID=Europe/London:20210307T190000
DTSTAMP:20260420T015728
CREATED:20210222T143536Z
LAST-MODIFIED:20241007T124644Z
UID:4861-1615140000-1615143600@scarylittlegirls.co.uk
SUMMARY:Carry Greenham Home: online screening and Q&A
DESCRIPTION:Join the fabulous POW! Thanet festival for a special free online screening of this legendary documentary about the women of the Greenham Common peace camp. \n\nThe screening will be followed by a live performance of Greenham campfire songs from Rebecca Mordan of Scary Little Girls\, and a Q&A with the film’s director Baroness Beeban Kidron\, who famously said: \n“The women of Greenham Common taught a generation how to protest.” \nBook now – it’s free! \nFind out more on the POW! Thanet website.
URL:https://scarylittlegirls.co.uk/event/carry-greenham-home-online-screening-and-qa/
ATTACH;FMTTYPE=image/jpeg:https://scarylittlegirls.co.uk/wp-content/uploads/2019/01/Greenham-Common-82-rescaled.jpg
END:VEVENT
END:VCALENDAR