BEGIN:VCALENDAR
VERSION:2.0
PRODID:-//Scary Little Girls - ECPv6.15.17.1//NONSGML v1.0//EN
CALSCALE:GREGORIAN
METHOD:PUBLISH
X-ORIGINAL-URL:https://scarylittlegirls.co.uk
X-WR-CALDESC:Events for Scary Little Girls
REFRESH-INTERVAL;VALUE=DURATION:PT1H
X-Robots-Tag:noindex
X-PUBLISHED-TTL:PT1H
BEGIN:VTIMEZONE
TZID:Europe/London
BEGIN:DAYLIGHT
TZOFFSETFROM:+0000
TZOFFSETTO:+0100
TZNAME:BST
DTSTART:20190331T010000
END:DAYLIGHT
BEGIN:STANDARD
TZOFFSETFROM:+0100
TZOFFSETTO:+0000
TZNAME:GMT
DTSTART:20191027T010000
END:STANDARD
BEGIN:DAYLIGHT
TZOFFSETFROM:+0000
TZOFFSETTO:+0100
TZNAME:BST
DTSTART:20200329T010000
END:DAYLIGHT
BEGIN:STANDARD
TZOFFSETFROM:+0100
TZOFFSETTO:+0000
TZNAME:GMT
DTSTART:20201025T010000
END:STANDARD
BEGIN:DAYLIGHT
TZOFFSETFROM:+0000
TZOFFSETTO:+0100
TZNAME:BST
DTSTART:20210328T010000
END:DAYLIGHT
BEGIN:STANDARD
TZOFFSETFROM:+0100
TZOFFSETTO:+0000
TZNAME:GMT
DTSTART:20211031T010000
END:STANDARD
END:VTIMEZONE
BEGIN:VEVENT
DTSTART;TZID=Europe/London:20200520T193000
DTEND;TZID=Europe/London:20200520T195000
DTSTAMP:20260420T222421
CREATED:20200505T101324Z
LAST-MODIFIED:20241007T124649Z
UID:3956-1590003000-1590004200@scarylittlegirls.co.uk
SUMMARY:Salon de la Vie - from Freya to Fairy Tale
DESCRIPTION:When did women become so passive in stories?  \nAncient tales and sagas feature active\, dynamic women\, as powerful and creative as the men. More modern tales have relegated women to more passive roles – helpmeets\, companions\, and devices to move the story along. \nIn our Salon on the 20th May\, we’ll be exploring this trend – when and how did it happen? Where did some of our modern characters come from\, and what’s their origin story? Did you know that ‘Anonymous’ was usually a woman’? That Snow White started out as the Nordic Goddess Freya? And have you heard how Cornish fairytale heroine Duffy beat the Devil? \nWe’d love to hear from you in advance – what’s your favourite feminist fairy (or other? ) tale? Message us! \nJoin us on Facebook Live from 7.30 on the 20th May for 20 minutes of fabulous feminist fun – mix up an Apple Martini in advance to get in the mood! \n \n  \n  \n  \n  \n  \n  \n  \n  \n  \n  \n  \n  \nSalon de la Vie is Scary Little Girls’ contribution to fun and feminism in a time of COVID-19! \nOur fortnightly 15 -20 minute extravaganzas of songs\, storytelling\, merriment and conversation\, focus each time on an awe-inspiring\, remarkable and brave woman from the world of film\, music\, literature and history\, drawing parallels with the achievements of activists today\, to celebrate how people positively embody the change they want to see in the world\, for themselves and for others. We’re super proud that each salon has a custom illustration provided by the wonderful Jacky Fleming. \nScary Little Girls is a vibrant\, hard-working production hub whose commitment and passion for theatrical and artistic storytelling is borne out by the variety of scary little work we have created and the support we have from our scary little artists and audiences. \nCome along every other Wednesday evening to join in with our singing\, celebration and joy! \nWe’d like to thank our amazing funders Arts Council England\, Cornwall Council and Feast for supporting this project
URL:https://scarylittlegirls.co.uk/event/salon-de-la-vie-from-freya-to-fairy-tale/
LOCATION:Facebook Live
ATTACH;FMTTYPE=image/jpeg:https://scarylittlegirls.co.uk/wp-content/uploads/2020/05/SLGFreya.jpg
END:VEVENT
END:VCALENDAR