BEGIN:VCALENDAR
VERSION:2.0
PRODID:-//Scary Little Girls - ECPv6.15.17.1//NONSGML v1.0//EN
CALSCALE:GREGORIAN
METHOD:PUBLISH
X-WR-CALNAME:Scary Little Girls
X-ORIGINAL-URL:https://scarylittlegirls.co.uk
X-WR-CALDESC:Events for Scary Little Girls
REFRESH-INTERVAL;VALUE=DURATION:PT1H
X-Robots-Tag:noindex
X-PUBLISHED-TTL:PT1H
BEGIN:VTIMEZONE
TZID:Europe/London
BEGIN:DAYLIGHT
TZOFFSETFROM:+0000
TZOFFSETTO:+0100
TZNAME:BST
DTSTART:20190331T010000
END:DAYLIGHT
BEGIN:STANDARD
TZOFFSETFROM:+0100
TZOFFSETTO:+0000
TZNAME:GMT
DTSTART:20191027T010000
END:STANDARD
BEGIN:DAYLIGHT
TZOFFSETFROM:+0000
TZOFFSETTO:+0100
TZNAME:BST
DTSTART:20200329T010000
END:DAYLIGHT
BEGIN:STANDARD
TZOFFSETFROM:+0100
TZOFFSETTO:+0000
TZNAME:GMT
DTSTART:20201025T010000
END:STANDARD
BEGIN:DAYLIGHT
TZOFFSETFROM:+0000
TZOFFSETTO:+0100
TZNAME:BST
DTSTART:20210328T010000
END:DAYLIGHT
BEGIN:STANDARD
TZOFFSETFROM:+0100
TZOFFSETTO:+0000
TZNAME:GMT
DTSTART:20211031T010000
END:STANDARD
END:VTIMEZONE
BEGIN:VEVENT
DTSTART;TZID=Europe/London:20200506T193000
DTEND;TZID=Europe/London:20200506T195000
DTSTAMP:20260420T222320
CREATED:20200422T134750Z
LAST-MODIFIED:20241007T124649Z
UID:3954-1588793400-1588794600@scarylittlegirls.co.uk
SUMMARY:Salon de la Vie - Yo Her Her and a Bottle of Rum!
DESCRIPTION:‘What do I lack?’ \nWar correspondent\, author\, journalist and criminologist\, this ‘lady reporter’ was fascinated by those who kill and the criminal justice (or injustice) around them. One of her works\, still influential today\, divided killers into six categories\, based on their purported reasons for killing. Another featured a charismatic pirate\, Captain Lovel\, captaining the good ship Piskie – but did what the captain lacked reveal something about who they really were…? \nThis week’s Salonista also… \n1.  Wrote the ripping yarn Moonraker about piracy\, cross dressing and the Haitian Revolution!\n\n2.  Was part of the Newlyn School of Cornish Artists\n\n3. At the outbreak of WW1\, reported from the front line in Belgium and then Holland and France to send vital info on the state of the Red Cross hospitals there\, and the Women’s Army \nOh – and she had a famous uncle. But less about him\, find out more about her! Join us for a Pirate Mule and a bite sized chunk of feminist fun on Wednesday 6th May\, from 7.30\, on Facebook Live! Get in the mood early and message us your favourite female pirate or criminal – Anne Bonny? Sayyida al Hurra? Ching Shih? \n \n  \n  \n  \n  \n  \n  \n  \nSalon de la Vie is Scary Little Girls’ contribution to fun and feminism in a time of COVID-19! \nOur fortnightly 15 -20 minute extravaganzas of songs\, storytelling\, merriment and conversation\, focus each time on an awe-inspiring\, remarkable and brave woman from the world of film\, music\, literature and history\, drawing parallels with the achievements of activists today\, to celebrate how people positively embody the change they want to see in the world\, for themselves and for others. We’re super proud that each salon has a custom illustration provided by the wonderful Jacky Fleming. \nScary Little Girls is a vibrant\, hard-working production hub whose commitment and passion for theatrical and artistic storytelling is borne out by the variety of scary little work we have created and the support we have from our scary little artists and audiences. \nCome along every other Wednesday evening to join in with our singing\, celebration and joy! \nWe’d like to thank our amazing funders Arts Council England\, Cornwall Council and Feast for supporting this project
URL:https://scarylittlegirls.co.uk/event/salon-de-la-vie-yo-her-her-and-a-bottle-of-rum/
LOCATION:Facebook Live
ATTACH;FMTTYPE=image/jpeg:https://scarylittlegirls.co.uk/wp-content/uploads/2020/04/ScaryLittleGirlsSalon3.jpeg
END:VEVENT
END:VCALENDAR