BEGIN:VCALENDAR
VERSION:2.0
PRODID:-//Scary Little Girls - ECPv6.15.17.1//NONSGML v1.0//EN
CALSCALE:GREGORIAN
METHOD:PUBLISH
X-WR-CALNAME:Scary Little Girls
X-ORIGINAL-URL:https://scarylittlegirls.co.uk
X-WR-CALDESC:Events for Scary Little Girls
REFRESH-INTERVAL;VALUE=DURATION:PT1H
X-Robots-Tag:noindex
X-PUBLISHED-TTL:PT1H
BEGIN:VTIMEZONE
TZID:Europe/London
BEGIN:DAYLIGHT
TZOFFSETFROM:+0000
TZOFFSETTO:+0100
TZNAME:BST
DTSTART:20190331T010000
END:DAYLIGHT
BEGIN:STANDARD
TZOFFSETFROM:+0100
TZOFFSETTO:+0000
TZNAME:GMT
DTSTART:20191027T010000
END:STANDARD
BEGIN:DAYLIGHT
TZOFFSETFROM:+0000
TZOFFSETTO:+0100
TZNAME:BST
DTSTART:20200329T010000
END:DAYLIGHT
BEGIN:STANDARD
TZOFFSETFROM:+0100
TZOFFSETTO:+0000
TZNAME:GMT
DTSTART:20201025T010000
END:STANDARD
BEGIN:DAYLIGHT
TZOFFSETFROM:+0000
TZOFFSETTO:+0100
TZNAME:BST
DTSTART:20210328T010000
END:DAYLIGHT
BEGIN:STANDARD
TZOFFSETFROM:+0100
TZOFFSETTO:+0000
TZNAME:GMT
DTSTART:20211031T010000
END:STANDARD
END:VTIMEZONE
BEGIN:VEVENT
DTSTART;TZID=Europe/London:20200301T193000
DTEND;TZID=Europe/London:20200301T210000
DTSTAMP:20260421T024811
CREATED:20191229T182507Z
LAST-MODIFIED:20241007T124650Z
UID:3822-1583091000-1583096400@scarylittlegirls.co.uk
SUMMARY:Greenham Talk (Bodmin)
DESCRIPTION:Greenham Women Everywhere: a talk by Rebecca Mordan \nBook now \nBased on fresh\, original testimonies given by over 100 Greenham Common Women\, this talk offers an intimate portrait of the adventures\, personalities and dilemmas of the Greenham Women\, exploring how Greenham’s legacy has influenced current cultural\, and political movements including Repeal The 8th\, Extinction Rebellion\, the Stansted 15 and the MeToo movement.\n\n\nRebecca Mordan\, Artistic Director of Scary Little Girls Association and co-ordinator of this unique Heritage Lottery funded project\, has led an interview process involving approx 100 Women of Greenham Common peace camp. In this talk she explains the work and shares anecdotes from these extraordinary campaigners\, finishing the evening with a Q & A session when Rebecca will be joined by local Greenham Women who have contributed to the Greenham Women Everywhere project.\n\n \nWe need your support: visit our Greenham GoFundMe!
URL:https://scarylittlegirls.co.uk/event/greenham-talk-bodmin/
LOCATION:The Old Library\, 10 Lower Bore Street\, Bodmin\, PL31 2JX
ATTACH;FMTTYPE=image/jpeg:https://scarylittlegirls.co.uk/wp-content/uploads/2019/06/greenham-go-fund-me.jpeg
END:VEVENT
END:VCALENDAR