BEGIN:VCALENDAR
VERSION:2.0
PRODID:-//Scary Little Girls - ECPv6.15.17.1//NONSGML v1.0//EN
CALSCALE:GREGORIAN
METHOD:PUBLISH
X-WR-CALNAME:Scary Little Girls
X-ORIGINAL-URL:https://scarylittlegirls.co.uk
X-WR-CALDESC:Events for Scary Little Girls
REFRESH-INTERVAL;VALUE=DURATION:PT1H
X-Robots-Tag:noindex
X-PUBLISHED-TTL:PT1H
BEGIN:VTIMEZONE
TZID:Europe/London
BEGIN:DAYLIGHT
TZOFFSETFROM:+0000
TZOFFSETTO:+0100
TZNAME:BST
DTSTART:20190331T010000
END:DAYLIGHT
BEGIN:STANDARD
TZOFFSETFROM:+0100
TZOFFSETTO:+0000
TZNAME:GMT
DTSTART:20191027T010000
END:STANDARD
BEGIN:DAYLIGHT
TZOFFSETFROM:+0000
TZOFFSETTO:+0100
TZNAME:BST
DTSTART:20200329T010000
END:DAYLIGHT
BEGIN:STANDARD
TZOFFSETFROM:+0100
TZOFFSETTO:+0000
TZNAME:GMT
DTSTART:20201025T010000
END:STANDARD
BEGIN:DAYLIGHT
TZOFFSETFROM:+0000
TZOFFSETTO:+0100
TZNAME:BST
DTSTART:20210328T010000
END:DAYLIGHT
BEGIN:STANDARD
TZOFFSETFROM:+0100
TZOFFSETTO:+0000
TZNAME:GMT
DTSTART:20211031T010000
END:STANDARD
END:VTIMEZONE
BEGIN:VEVENT
DTSTART;TZID=Europe/London:20200226T190000
DTEND;TZID=Europe/London:20200226T210000
DTSTAMP:20260421T024813
CREATED:20200219T192616Z
LAST-MODIFIED:20241007T124651Z
UID:3853-1582743600-1582750800@scarylittlegirls.co.uk
SUMMARY:The Last Ever Pea Souk Storytelling Supperclub! (Falmouth)
DESCRIPTION:Supper\, stories and sepulchres – join us for one final revival of our spooky storytelling club at Pea Souk cafe.  Journey into the deliciously dark with us\, before it closes forever! \nIn deference to our host and chef we’ve chosen a vampire theme with work from Lord Byron\, LH Trevail\, Annie Lennox\, EF Benson and more. \nSpaces are incredibly limited but we’d love to see you there\, so please call Pea Souk on 07866 215 963 for prices and times.
URL:https://scarylittlegirls.co.uk/event/the-final-pea-souk-storytelling-supperclub-falmouth/
LOCATION:Pea Souk Cafe\, 19c Well Lane\, Falmouth\, TR11 3EG\, United Kingdom
ATTACH;FMTTYPE=image/jpeg:https://scarylittlegirls.co.uk/wp-content/uploads/2018/10/shiversmiths.jpg
END:VEVENT
END:VCALENDAR