BEGIN:VCALENDAR
VERSION:2.0
PRODID:-//Scary Little Girls - ECPv6.15.17.1//NONSGML v1.0//EN
CALSCALE:GREGORIAN
METHOD:PUBLISH
X-ORIGINAL-URL:https://scarylittlegirls.co.uk
X-WR-CALDESC:Events for Scary Little Girls
REFRESH-INTERVAL;VALUE=DURATION:PT1H
X-Robots-Tag:noindex
X-PUBLISHED-TTL:PT1H
BEGIN:VTIMEZONE
TZID:Europe/London
BEGIN:DAYLIGHT
TZOFFSETFROM:+0000
TZOFFSETTO:+0100
TZNAME:BST
DTSTART:20190331T010000
END:DAYLIGHT
BEGIN:STANDARD
TZOFFSETFROM:+0100
TZOFFSETTO:+0000
TZNAME:GMT
DTSTART:20191027T010000
END:STANDARD
BEGIN:DAYLIGHT
TZOFFSETFROM:+0000
TZOFFSETTO:+0100
TZNAME:BST
DTSTART:20200329T010000
END:DAYLIGHT
BEGIN:STANDARD
TZOFFSETFROM:+0100
TZOFFSETTO:+0000
TZNAME:GMT
DTSTART:20201025T010000
END:STANDARD
BEGIN:DAYLIGHT
TZOFFSETFROM:+0000
TZOFFSETTO:+0100
TZNAME:BST
DTSTART:20210328T010000
END:DAYLIGHT
BEGIN:STANDARD
TZOFFSETFROM:+0100
TZOFFSETTO:+0000
TZNAME:GMT
DTSTART:20211031T010000
END:STANDARD
END:VTIMEZONE
BEGIN:VEVENT
DTSTART;VALUE=DATE:20200221
DTEND;VALUE=DATE:20200225
DTSTAMP:20260421T055147
CREATED:20200217T190631Z
LAST-MODIFIED:20241007T124651Z
UID:3849-1582243200-1582588799@scarylittlegirls.co.uk
SUMMARY:Greenham Exhibition & Events (St Agnes)
DESCRIPTION:We’re delighted to take the Greenham Women Everywhere touring pop-up exhibition to St Agnes Library for a special week of events including a screening of new animations by students at Falmouth Film School (Friday 21 February) and a sing-a-long night with Claire Inglehart (Saturday 22 February).  Tickets for these events are available directly from the library. \nThe exhibition itself is free of charge and showcases some original photographs created by our team\, and also archival material\, both visual and written\, which we have collated during the project. We’ll be playing you soundscapes created by artists we have worked with which give a cross-section of the oral testimonies we have taken\, as well as using some of the wonderful Greenham music. \nAll set in a Greenham-inspired tent\, this exhibition really allows you to get an intimate look at the sights and sounds of the camp\, gives voice to these radical women and asks you what change you want to see in the world. \nOur team has been led in the exhibition design by Rachael Miles\, an artist and Senior Lecturer at The University of The West of England. \n \nWe need your support: visit our Greenham GoFundMe!
URL:https://scarylittlegirls.co.uk/event/greenham-exhibition-events-st-agnes/
LOCATION:St Agnes Library\, 2 Trelawney Road\, St Agnes\, TR5 0TP\, United Kingdom
ATTACH;FMTTYPE=image/jpeg:https://scarylittlegirls.co.uk/wp-content/uploads/2020/02/st-agnes-greenham-flyer.jpg
END:VEVENT
END:VCALENDAR