BEGIN:VCALENDAR
VERSION:2.0
PRODID:-//Scary Little Girls - ECPv6.15.17.1//NONSGML v1.0//EN
CALSCALE:GREGORIAN
METHOD:PUBLISH
X-ORIGINAL-URL:https://scarylittlegirls.co.uk
X-WR-CALDESC:Events for Scary Little Girls
REFRESH-INTERVAL;VALUE=DURATION:PT1H
X-Robots-Tag:noindex
X-PUBLISHED-TTL:PT1H
BEGIN:VTIMEZONE
TZID:Europe/London
BEGIN:DAYLIGHT
TZOFFSETFROM:+0000
TZOFFSETTO:+0100
TZNAME:BST
DTSTART:20180325T010000
END:DAYLIGHT
BEGIN:STANDARD
TZOFFSETFROM:+0100
TZOFFSETTO:+0000
TZNAME:GMT
DTSTART:20181028T010000
END:STANDARD
BEGIN:DAYLIGHT
TZOFFSETFROM:+0000
TZOFFSETTO:+0100
TZNAME:BST
DTSTART:20190331T010000
END:DAYLIGHT
BEGIN:STANDARD
TZOFFSETFROM:+0100
TZOFFSETTO:+0000
TZNAME:GMT
DTSTART:20191027T010000
END:STANDARD
BEGIN:DAYLIGHT
TZOFFSETFROM:+0000
TZOFFSETTO:+0100
TZNAME:BST
DTSTART:20200329T010000
END:DAYLIGHT
BEGIN:STANDARD
TZOFFSETFROM:+0100
TZOFFSETTO:+0000
TZNAME:GMT
DTSTART:20201025T010000
END:STANDARD
END:VTIMEZONE
BEGIN:VEVENT
DTSTART;TZID=Europe/London:20191018T203000
DTEND;TZID=Europe/London:20191018T220000
DTSTAMP:20260421T172112
CREATED:20190827T202745Z
LAST-MODIFIED:20241007T124653Z
UID:3740-1571430600-1571436000@scarylittlegirls.co.uk
SUMMARY:It's Your Round (Inverness)
DESCRIPTION:A pub quiz with a cabaret twist!  Originally commissioned by Creative Arts East and Cornerstone\, Didcot\, this show brings you the best of modern cabaret comedy and a traditional pub quiz.  Join Quiz Mistress and Pub Landlady Pat Pinch as she takes over your local with live music\, prizes\, audience participation and\, of course\, a few drinks! \nBook now \nTest your team with rounds such as: \n– How local are you? So down with your town you can almost taste it…? \n– Jumping Juke Box! Movie and music rounds with a difference. \n– Plus general knowledge\, photo and bonus rounds! \nWhether you’re a liver-bashing barﬂy or a strict abstainer\, a quiz master-mind or an absolute beginner\, Pat is waiting to treat you to six of the best pub quiz rounds EVER!
URL:https://scarylittlegirls.co.uk/event/its-your-round-inverness/
LOCATION:Eden Court\, Bischops Road\, Inverness\, IV3 5SA
ATTACH;FMTTYPE=image/jpeg:https://scarylittlegirls.co.uk/wp-content/uploads/2018/09/annual-report-cover-2017.jpg
END:VEVENT
END:VCALENDAR