BEGIN:VCALENDAR
VERSION:2.0
PRODID:-//Scary Little Girls - ECPv6.15.17.1//NONSGML v1.0//EN
CALSCALE:GREGORIAN
METHOD:PUBLISH
X-ORIGINAL-URL:https://scarylittlegirls.co.uk
X-WR-CALDESC:Events for Scary Little Girls
REFRESH-INTERVAL;VALUE=DURATION:PT1H
X-Robots-Tag:noindex
X-PUBLISHED-TTL:PT1H
BEGIN:VTIMEZONE
TZID:Europe/London
BEGIN:DAYLIGHT
TZOFFSETFROM:+0000
TZOFFSETTO:+0100
TZNAME:BST
DTSTART:20180325T010000
END:DAYLIGHT
BEGIN:STANDARD
TZOFFSETFROM:+0100
TZOFFSETTO:+0000
TZNAME:GMT
DTSTART:20181028T010000
END:STANDARD
BEGIN:DAYLIGHT
TZOFFSETFROM:+0000
TZOFFSETTO:+0100
TZNAME:BST
DTSTART:20190331T010000
END:DAYLIGHT
BEGIN:STANDARD
TZOFFSETFROM:+0100
TZOFFSETTO:+0000
TZNAME:GMT
DTSTART:20191027T010000
END:STANDARD
BEGIN:DAYLIGHT
TZOFFSETFROM:+0000
TZOFFSETTO:+0100
TZNAME:BST
DTSTART:20200329T010000
END:DAYLIGHT
BEGIN:STANDARD
TZOFFSETFROM:+0100
TZOFFSETTO:+0000
TZNAME:GMT
DTSTART:20201025T010000
END:STANDARD
END:VTIMEZONE
BEGIN:VEVENT
DTSTART;VALUE=DATE:20190609
DTEND;VALUE=DATE:20190610
DTSTAMP:20260422T025615
CREATED:20190601T200747Z
LAST-MODIFIED:20241007T124656Z
UID:3581-1560038400-1560124799@scarylittlegirls.co.uk
SUMMARY:Wollstonecraft Living Literature Walk
DESCRIPTION:Fragments & Monuments and Scary Little Girls bring Mary’s green alive with performance\, poetry and song in a special\, one-off Wollstonecraft Literature Walk for Stokey Lit Fest. In small groups\, you set off on a specially prepared route\, where hidden performers regale you with famous words inspired by Mary\, and of course with her own work. As you progress you’ll discover secrets about Mary\, her life and her Green! \nMeet at allotted time outside The Mildmay Club. \nWalk departure times: 2pm\, 2.20pm\, 2.40pm\, 3pm\, 3.20pm and 3.40pm – select your chosen time using the drop down menu on ticketing link. Walks are approximately 70mins.\n(15 people per group max) \nTickets: £8 online/£10 on the door. \nBook now \nPS/ The amazing artwork is by Jess Ebsworth
URL:https://scarylittlegirls.co.uk/event/wollstonecraft-living-literature-walk/
LOCATION:The Mildmay Club\, 33-34 Newington Green\, London\, N16 9PR\, United Kingdom
ATTACH;FMTTYPE=image/jpeg:https://scarylittlegirls.co.uk/wp-content/uploads/2019/06/wollstonecraft.jpg
END:VEVENT
END:VCALENDAR